BEGIN:VCALENDAR
VERSION:2.0
PRODID:-//ChamberMaster//Event Calendar 2.0//EN
METHOD:PUBLISH
X-PUBLISHED-TTL:P3D
REFRESH-INTERVAL:P3D
CALSCALE:GREGORIAN
BEGIN:VEVENT
DTSTART:20140902T230000Z
DTEND:20140903T030000Z
X-MICROSOFT-CDO-ALLDAYEVENT:FALSE
SUMMARY:iusOpes: Managing Your Human Assets
DESCRIPTION:Module 1 (of this 6 part series): Human Resource Planning\n\n\n\nThis Module provides a detailed outline of how small business owners can develop a human resource plan. There is also a discussion of issues to consider when developing a succession plan\, the plan that is needed to consider how to carry on the business\, or sell the business\, when the current management/ownership leaves. Tips for creating a personnel policy manual are also included.\n\n\n\nClick here for complete module details
X-ALT-DESC;FMTTYPE=text/html:<u><strong>Module 1</strong></u> (of this 6 part series): <u><strong>Human Resource Planning</strong></u><br />\n<br />\nThis Module provides a detailed outline of how small business owners can develop a human resource plan. There is also a discussion of issues to consider when developing a succession plan\, the plan that is needed to consider how to carry on the business\, or sell the business\, when the current management/ownership leaves. Tips for creating a personnel policy manual are also included.<br />\n<br />\nClick <u><strong><a href="http://www.brandonchamber.ca/wp-content/uploads/2014/08/Spirit-Staffing.pdf">here</a></strong></u> for complete module details<br />\n&nbsp\;
LOCATION:iusOpes / Spirit Staffing & Consulting Office: 3A 457 9th St Brandon\, MB
UID:e.1595.107
SEQUENCE:3
DTSTAMP:20260421T041509Z
URL:https://dev.brandonchamber.ca/events/details/iusopes-managing-your-human-assets-09-02-2014-107
END:VEVENT

END:VCALENDAR
