BEGIN:VCALENDAR
VERSION:2.0
PRODID:-//ChamberMaster//Event Calendar 2.0//EN
METHOD:PUBLISH
X-PUBLISHED-TTL:P3D
REFRESH-INTERVAL:P3D
CALSCALE:GREGORIAN
BEGIN:VEVENT
DTSTART:20141209T133000Z
DTEND:20141209T153000Z
X-MICROSOFT-CDO-ALLDAYEVENT:FALSE
SUMMARY:INNOVATION ENGINEERING AWARENESS BREAKFAST
DESCRIPTION:How do you spark an innovation? Why bother?\n\nInnovation Engineering transforms innovation from a random event into a reliable scientific system for profitable growth. This system increases the speed of innovation by up to 6 times\, decreases the risk of innovation by up to 80%\, and can reduce the costs of innovation by 50%.\n\nInnovation Engineering can be applied throughout your organization to create meaningfully unique value that will make your company more competitve in your chosen markets.\n\nCanadian Manufacturers & Exporters (CME) proudly presents this awareness breakfast to help you to become more familiar with the IE Operating System.  It also provides an opportunity for those who wish to refresh their knowledge of the system's methodology\, its impact on innovation and how it can catalyze growth and success within your organization.\n\nClick here for more information on this event and to register.
X-ALT-DESC;FMTTYPE=text/html:<em><strong>How do you spark an innovation? Why bother?</strong></em><br />\nInnovation Engineering transforms innovation from a random event into a reliable scientific system for profitable growth. This system increases the speed of innovation by up to 6 times\, decreases the risk of innovation by up to 80%\, and can reduce the costs of innovation by 50%.<br />\nInnovation Engineering can be applied throughout your organization to create meaningfully unique value that will make your company more competitve in your chosen markets.<br />\n<strong>Canadian Manufacturers &amp\; Exporters</strong> (CME) proudly presents this awareness breakfast to help you to become more familiar with the IE Operating System.&nbsp\; It also provides an opportunity for those who wish to refresh their knowledge of the system&#39\;s methodology\, its impact on innovation and how it can catalyze growth and success within your organization.<br />\nClick <a href="http://mb.cme-mec.ca/?action=show&amp\;lid=UFTAL-PQ7LG-1F62R&amp\;comaction=show&amp\;cid=B5DEK-CH8RP-7K34E">here</a> for more information on this event and to register.<br />\n&nbsp\;
LOCATION:CME Office\, 110 Lowson Crescent\, Winnipeg\, MB
UID:e.1595.175
SEQUENCE:3
DTSTAMP:20260421T001402Z
URL:https://dev.brandonchamber.ca/events/details/innovation-engineering-awareness-breakfast-12-09-2014-175
END:VEVENT

END:VCALENDAR
