BEGIN:VCALENDAR
VERSION:2.0
PRODID:-//ChamberMaster//Event Calendar 2.0//EN
METHOD:PUBLISH
X-PUBLISHED-TTL:P3D
REFRESH-INTERVAL:P3D
CALSCALE:GREGORIAN
BEGIN:VEVENT
DTSTART:20160616T210000Z
DTEND:20160616T223000Z
X-MICROSOFT-CDO-ALLDAYEVENT:FALSE
SUMMARY:Industry Reception
DESCRIPTION:The City of Brandon Industry Advisory Group\n\ninvites you to an Industry Reception\n\nAn opportunity to meet new Development Services staff who will work with industry partners   CARM\, Brandon Chamber of Commerce\, and the Downtown HUB   to build upon the City of Brandon's planned growth strategies.
X-ALT-DESC;FMTTYPE=text/html:<h2>The City of Brandon&nbsp\;Industry Advisory Group</h2>\n\n<h3>invites you to an Industry Reception</h3>\n\n<p>An opportunity to meet new Development Services staff who will work with industry partners &mdash\; CARM\, Brandon Chamber of Commerce\, and the Downtown HUB &mdash\; to build upon the City of Brandon&rsquo\;s planned growth strategies.</p>\n
LOCATION:Brandon Design Studio 638 Princess Ave (East Building Entrance)
UID:e.1595.476
SEQUENCE:3
DTSTAMP:20260419T130934Z
URL:https://dev.brandonchamber.ca/events/details/industry-reception-06-16-2016-476
END:VEVENT

END:VCALENDAR
