BEGIN:VCALENDAR
VERSION:2.0
PRODID:-//ChamberMaster//Event Calendar 2.0//EN
METHOD:PUBLISH
X-PUBLISHED-TTL:P3D
REFRESH-INTERVAL:P3D
CALSCALE:GREGORIAN
BEGIN:VEVENT
DTSTART:20160422T230000Z
DTEND:20160424T220000Z
X-MICROSOFT-CDO-ALLDAYEVENT:FALSE
SUMMARY:Hunter Safety and Canadian Firearms training weekend
DESCRIPTION:Manitoba Hunter Safety and Canadian Firearms Safety Course combination over 12 hours\, Friday eve 6-10 pm plus Sat 8.30-4.30\, with exams to follow . Canadian Restricted Firearms safety Course runs Sunday 8.30-4.30\, prerequisite is PAL or CFSC report.\n\nEmail ggs57@wcgwave.ca for details\, training weekend offered once per month.
X-ALT-DESC;FMTTYPE=text/html:Manitoba Hunter Safety and Canadian Firearms Safety Course combination over 12 hours\, Friday eve 6-10 pm plus Sat 8.30-4.30\, with exams to follow . Canadian Restricted Firearms safety Course runs Sunday 8.30-4.30\, prerequisite is PAL or CFSC report.<br />\nEmail ggs57@wcgwave.ca for details\, training weekend offered once per month.
LOCATION:North End Community Center\, lower level\, enter from North side
UID:e.1595.418
SEQUENCE:3
DTSTAMP:20260419T155830Z
URL:https://dev.brandonchamber.ca/events/details/hunter-safety-and-canadian-firearms-training-weekend-04-22-2016-418
END:VEVENT

END:VCALENDAR
