BEGIN:VCALENDAR
VERSION:2.0
PRODID:-//ChamberMaster//Event Calendar 2.0//EN
METHOD:PUBLISH
X-PUBLISHED-TTL:P3D
REFRESH-INTERVAL:P3D
CALSCALE:GREGORIAN
BEGIN:VEVENT
DTSTART:20150413T140000Z
DTEND:20150413T203000Z
X-MICROSOFT-CDO-ALLDAYEVENT:FALSE
SUMMARY:HRMAM Westman Chapter invites you to the 2015 Labor Law Review
DESCRIPTION:HRMAM Westman Chapter invites you to the 2015 Labor Law Review\n\n \n\nEvent Information: \n\n \n\nEvent:   2015 Labor Law Review\n\n                Sessions:\n\n            "Handling the 10%: The pitfalls of Discipline and Discharge"\n\n            "The Balancing Act:  Workplace Safety Requirements\, Human Rights and Discipline\n\n\n\nPresenters:\n\nDavid Swayze\, Meighen Haddad LLP\, Brandon\, MB\n\nJamie Alyce Jurczak\, Taylor McCaffrey LLP\, Winnipeg\, MB\n\n \n\n \n\nEVENT FORMAT AND SESSION DESCRIPTIONS: \n\n \n\n9 AM -11:30 AM\n\n                "Handling the 10%: The pitfalls of Discipline and Discharge"\, David Swayze \n\n                                It is an old saying that 10% of employees cause 90% of the problems in the workplace. In today's world where job security protects employees in a unionized workplace\, and  where a human rights issues lurks around every corner\, the employer bears a heavy onus when it comes to discipline and discharge. We will examine in detail the interplay between human rights issues and discipline\, as well as the obligations of employers relating to investigations and progressive discipline. Finally\, we will examine the threshold test for "just cause" and the obligations of employers when dismissing without cause.\n\n \n\n11:30 AM   12:15 PM Networking Lunch\n\n \n\n12:15 PM - 2:30 PM\n\n                "The Balancing Act:  Workplace Safety Requirements\, Human Rights and Discipline"\, Jamie Alyce Jurczak\n\n                                While safety is a significant factor in every workplace\, particularly in the face of the current legislative regime\, the requirement to meet other legal obligations does not absolve an employer from meeting human rights obligations or other employment law obligations.  Employers are often left grappling with situations in which an employee in need of accommodation proposes a solution that leaves the employer feeling as though they will be left exposed under the workplace safety and health legislation\, or concerned that following "progressive discipline" principles would constitute a violation of the workplace safety and health legislation or human rights legislation.  What is an employer to do?  This session will address the balancing act that employers face in meeting their various legal duties when it comes to discipline\, human rights and workplace safety.\n\n \n\n2:30   3:30 PM\n\n                Question Period (if you would prefer\, please forward questions in advance to be asked on your behalf)\n\n \n\n \n\nPRESENTER INFORMATION \n\n \n\nDavid Swayze\, Meighen Haddad LLP\, Brandon\, MB\n\n \n\nDavid Swayze is a life-long resident of Brandon\, a graduate of Brandon University and Dalhousie Law School. David has been with Meighen Haddad since 1997 and joined the partnership in 2003. He focuses his practice on advocacy and litigation\, with a specific emphasis management side labour and employment law\, human rights\, privacy\, commercial litigation and administrative law.\n\n\n\nDavid acts for a number of public and private sector clients including Prairie Mountain Health\, the Brandon School Division\, Assiniboine Community College\, Zenith Paving and Cancade Company\, to name a few. He advises both private and public sector clients on labour and employment issues\, including providing representation in relation to collective bargaining\, grievance arbitration\, and human rights matters.\n\n\n\nDavid has been a bencher with the Law Society of Manitoba since 2008\, is Past President of the Law Society\, and also the Manitoba representative to the Council of the Federation of Law Societies of Canada.\n\n \nJamie Alyce Jurczak\, Taylor McCaffrey LLP\, Winnipeg\, MB\n \n\nJamie Alyce Jurczak is a Partner with Taylor McCaffrey LLP\, where she is a member of their labour and employment law and civil litigation practice groups.  Experienced in all facets of management-side labour and employment law\, her practice has a special focus on occupational health and safety matters.  She is Chair of the firm's OHS practice group\, and is experienced in defending employers charged under provincial and federal occupational health and safety legislation\, and is well versed in assisting clients in responding to serious workplace accidents\, addressing administrative appeals of regulatory orders\, and performing regulatory compliance reviews and audits.  She is a regular contributor to OHS Insider and is a sought after speaker on various OHS\, employment law\, and general litigation topics.  She is recognized as one of the leading OHS lawyers in Canada by the Canadian Legal Lexpert Directory.  Outside of the practice of law\, Jamie is quite involved in the Manitoba business community\, and owns her own dance studio in Winnipeg\, where she continues to teach ballet\, jazz\, and musical theatre.\n\n \n\nWe hope that you will join us!
X-ALT-DESC;FMTTYPE=text/html:HRMAM Westman Chapter invites you to the 2015 Labor Law Review<br />\n&nbsp\;<br />\n<strong><u>Event Information: </u></strong><br />\n&nbsp\;<br />\n<strong>Event:&nbsp\;&nbsp\; </strong>2015 Labor Law Review<br />\n&nbsp\;&nbsp\;&nbsp\;&nbsp\;&nbsp\;&nbsp\;&nbsp\;&nbsp\;&nbsp\;&nbsp\;&nbsp\;&nbsp\;&nbsp\;&nbsp\;&nbsp\; Sessions:<br />\n&nbsp\;&nbsp\;&nbsp\;&nbsp\;&nbsp\;&nbsp\;&nbsp\;&nbsp\;&nbsp\;&nbsp\;&nbsp\;&nbsp\;<strong>&ldquo\;Handling the 10%: The pitfalls of Discipline and Discharge&rdquo\;</strong><br />\n&nbsp\;&nbsp\;&nbsp\;&nbsp\;&nbsp\;&nbsp\;&nbsp\;&nbsp\;&nbsp\;&nbsp\;&nbsp\;&nbsp\;<strong>&quot\;The Balancing Act:&nbsp\; Workplace Safety Requirements\, Human Rights and Discipline</strong><br />\n<br />\n<strong>Presenters:</strong><br />\n<strong><em>David Swayze\, Meighen Haddad LLP\, Brandon\, MB</em></strong><br />\n<strong><em>Jamie Alyce Jurczak\, Taylor McCaffrey LLP\, Winnipeg\, MB</em></strong><br />\n&nbsp\;<br />\n&nbsp\;<br />\n<strong>EVENT FORMAT AND SESSION DESCRIPTIONS: </strong><br />\n&nbsp\;<br />\n<strong>9 AM -11:30 AM</strong><br />\n<strong>&nbsp\;&nbsp\;&nbsp\;&nbsp\;&nbsp\;&nbsp\;&nbsp\;&nbsp\;&nbsp\;&nbsp\;&nbsp\;&nbsp\;&nbsp\;&nbsp\;&nbsp\; &ldquo\;Handling the 10%: The pitfalls of Discipline and Discharge&rdquo\;\, David Swayze </strong><br />\n&nbsp\;&nbsp\;&nbsp\;&nbsp\;&nbsp\;&nbsp\;&nbsp\;&nbsp\;&nbsp\;&nbsp\;&nbsp\;&nbsp\;&nbsp\;&nbsp\;&nbsp\;&nbsp\;&nbsp\;&nbsp\;&nbsp\;&nbsp\;&nbsp\;&nbsp\;&nbsp\;&nbsp\;&nbsp\;&nbsp\;&nbsp\;&nbsp\;&nbsp\;&nbsp\;&nbsp\; It is an old saying that 10% of employees cause 90% of the problems in the workplace. In today&rsquo\;s world where job security protects employees in a unionized workplace\, and&nbsp\; where a human rights issues lurks around every corner\, the employer bears a heavy onus when it comes to discipline and discharge. We will examine in detail the interplay between human rights issues and discipline\, as well as the obligations of employers relating to investigations and progressive discipline. Finally\, we will examine the threshold test for &ldquo\;just cause&rdquo\; and the obligations of employers when dismissing without cause.<br />\n&nbsp\;<br />\n<strong>11:30 AM &ndash\; 12:15 PM Networking Lunch</strong><br />\n&nbsp\;<br />\n<strong>12:15 PM - 2:30 PM</strong><br />\n<strong>&nbsp\;&nbsp\;&nbsp\;&nbsp\;&nbsp\;&nbsp\;&nbsp\;&nbsp\;&nbsp\;&nbsp\;&nbsp\;&nbsp\;&nbsp\;&nbsp\;&nbsp\; &quot\;The Balancing Act:&nbsp\; Workplace Safety Requirements\, Human Rights and Discipline&quot\;\, </strong><strong><em>Jamie Alyce Jurczak</em></strong><br />\n&nbsp\;&nbsp\;&nbsp\;&nbsp\;&nbsp\;&nbsp\;&nbsp\;&nbsp\;&nbsp\;&nbsp\;&nbsp\;&nbsp\;&nbsp\;&nbsp\;&nbsp\;&nbsp\;&nbsp\;&nbsp\;&nbsp\;&nbsp\;&nbsp\;&nbsp\;&nbsp\;&nbsp\;&nbsp\;&nbsp\;&nbsp\;&nbsp\;&nbsp\;&nbsp\;&nbsp\; While safety is a significant factor in every workplace\, particularly in the face of the current legislative regime\, the requirement to meet other legal obligations does not absolve an employer from meeting human rights obligations or other employment law obligations.&nbsp\; Employers are often left grappling with situations in which an employee in need of accommodation proposes a solution that leaves the employer feeling as though they will be left exposed under the workplace safety and health legislation\, or concerned that following &ldquo\;progressive discipline&rdquo\; principles would constitute a violation of the workplace safety and health legislation or human rights legislation.&nbsp\; What is an employer to do?&nbsp\; This session will address the balancing act that employers face in meeting their various legal duties when it comes to discipline\, human rights and workplace safety.<br />\n&nbsp\;<br />\n<strong>2:30 &ndash\; 3:30 PM</strong><br />\n<strong>&nbsp\;&nbsp\;&nbsp\;&nbsp\;&nbsp\;&nbsp\;&nbsp\;&nbsp\;&nbsp\;&nbsp\;&nbsp\;&nbsp\;&nbsp\;&nbsp\;&nbsp\; Question Period </strong><em>(if you would prefer\, please forward questions in advance to be asked on your behalf)</em><br />\n&nbsp\;<br />\n&nbsp\;<br />\n<strong><u>PRESENTER INFORMATION </u></strong><br />\n&nbsp\;<br />\n<strong><em>David Swayze\, Meighen Haddad LLP\, Brandon\, MB</em></strong><br />\n&nbsp\;<br />\nDavid Swayze is a life-long resident of Brandon\, a graduate of Brandon University and Dalhousie Law School. David has been with Meighen Haddad since 1997 and joined the partnership in 2003. He focuses his practice on advocacy and litigation\, with a specific emphasis management side labour and employment law\, human rights\, privacy\, commercial litigation and administrative law.<br />\n<br />\nDavid acts for a number of public and private sector clients including Prairie Mountain Health\, the Brandon School Division\, Assiniboine Community College\, Zenith Paving and Cancade Company\, to name a few. He advises both private and public sector clients on labour and employment issues\, including providing representation in relation to collective bargaining\, grievance arbitration\, and human rights matters.<br />\n<br />\nDavid has been a bencher with the Law Society of Manitoba since 2008\, is Past President of the Law Society\, and also the Manitoba representative to the Council of the Federation of Law Societies of Canada.<br />\n&nbsp\;\n<h1><em><span style="font-family: calibri\,sans-serif\;"><span style="font-size: 11pt\;">Jamie Alyce Jurczak\, Taylor McCaffrey LLP\, Winnipeg\, MB</span></span></em></h1>\n&nbsp\;<br />\n<span style="font-family: calibri\,sans-serif\;"><span style="font-size: 11pt\;">Jamie Alyce Jurczak is a Partner with Taylor McCaffrey LLP\, where she is a member of their labour and employment law and civil litigation practice groups.&nbsp\; Experienced in all facets of management-side labour and employment law\, her practice has a special focus on occupational health and safety matters.&nbsp\; She is Chair of the firm&#39\;s OHS practice group\, and is experienced in defending employers charged under provincial and federal occupational health and safety legislation\, and is well versed in assisting clients in responding to serious workplace accidents\, addressing administrative appeals of regulatory orders\, and performing regulatory compliance reviews and audits.&nbsp\; She is a regular contributor to <em>OHS Insider </em>and is a sought after speaker on various OHS\, employment law\, and general litigation topics.&nbsp\; She is recognized as one of the leading OHS lawyers in Canada by the Canadian Legal Lexpert Directory.&nbsp\; Outside of the practice of law\, Jamie is quite involved in the Manitoba business community\, and owns her own dance studio in Winnipeg\, where she continues to teach ballet\, jazz\, and musical theatre.</span></span><br />\n&nbsp\;<br />\nWe hope that you will join us!<br />\n&nbsp\;<br />\n&nbsp\;
LOCATION:Victoria Inn 3550 Victoria Ave\, Brandon\, Manitoba\, R7B 2R4
UID:e.1595.282
SEQUENCE:3
DTSTAMP:20260420T081639Z
URL:https://dev.brandonchamber.ca/events/details/hrmam-westman-chapter-invites-you-to-the-2015-labor-law-review-04-13-2015-282
END:VEVENT

END:VCALENDAR
