BEGIN:VCALENDAR
VERSION:2.0
PRODID:-//ChamberMaster//Event Calendar 2.0//EN
METHOD:PUBLISH
X-PUBLISHED-TTL:P3D
REFRESH-INTERVAL:P3D
CALSCALE:GREGORIAN
BEGIN:VEVENT
DTSTART:20150528T150000Z
DTEND:20150528T210000Z
X-MICROSOFT-CDO-ALLDAYEVENT:FALSE
SUMMARY:HRMAM:Temporary Foreign Workers and Cultural Awareness & Integration
DESCRIPTION:HRMAM Westman Chapter invites you to a session on Temporary Foreign Workers and Cultural Awareness & Integration\n\n\n\nPresenters:  Aikins Law and Westman Immigrant Services\n\n \n\nTopics will include:\n\n\n	Changes to rules for temporary workers\, skilled immigrants and Manitoba provincial nominees over the past year\;\n	Defining and identifying Culture\, the Newcomer experience\, cultural differences\, adaptation and integration\;\n	Cross-cultural communication and workplace relationships\n\n \n\nR. Reis Pagtakhan is a Canadian corporate immigration lawyer with over 19 years of experience advising businesses and individuals on immigration matters. His focus is on:\n\n1. Obtaining temporary entry and permanent residency for senior executives\, managers\, professionals and other company employees from all over the world\;\n\n2. Training business and HR professionals on immigration law and processes\; and\n\n3. Working collaboratively with business and HR professionals to create easy to use systems to comply with federal and provincial immigration laws.\n\nA partner with Aikins Law\, Reis is also a member of the HRMAM Board.                                                                                        \n\n\n\nSarah Nantais has been living in Brandon for almost two years now. She worked as a Prospective student Advisor specializing in ESL students at NorQuest College in Edmonton\, Alberta before moving here. \n\nSarah has her degree in English and a post-graduate certificate in teaching ESL. She has been teaching ESL students at Assiniboine Community College for the past year and currently works for Westman Immigrant Services as the Cultural Diversity Facilitator.  \n\nComing from a multi-cultural family has given Sarah an insight into what it is like to be an immigrant in Canada as well as the ability to observe the process of integrating into Canadian Society.
X-ALT-DESC;FMTTYPE=text/html:HRMAM Westman Chapter invites you to a session on Temporary Foreign Workers and Cultural Awareness &amp\; Integration<br />\n<br />\n<span style="font-size: 12px\;">Presenters:&nbsp\;</span><span style="font-family: calibri\,sans-serif\;"><span style="font-size: 12px\;"> </span><strong>Aikins Law</strong> and <strong>Westman Immigrant Services</strong></span><br />\n&nbsp\;<br />\n<span style="font-family: calibri\,sans-serif\;">Topics will include:</span>\n\n<ul>\n	<li><span style="font-family: calibri\,sans-serif\;">Changes to rules for temporary workers\, skilled immigrants and Manitoba provincial nominees over the past year\;</span></li>\n	<li><span style="font-family: calibri\,sans-serif\;">Defining and identifying Culture\, the Newcomer experience\, cultural differences\, adaptation and integration\;</span></li>\n	<li><span style="font-family: calibri\,sans-serif\;">Cross-cultural communication and workplace relationships</span></li>\n</ul>\n&nbsp\;<br />\n<strong><span style="color: black\;"><span style="font-family: calibri\,sans-serif\;">R. Reis Pagtakhan </span></span></strong><span style="color: black\;"><span style="font-family: calibri\,sans-serif\;">is</span></span><span style="color: black\;"><span style="font-family: calibri\,sans-serif\;"> a Canadian corporate immigration lawyer with over 19 years of experience advising businesses and individuals on immigration matters. His focus is on:</span></span><br />\n<span style="color: black\;"><span style="font-family: calibri\,sans-serif\;">1. Obtaining temporary entry and permanent residency for senior executives\, managers\, professionals and other company employees from all over the world\;</span></span><br />\n<span style="color: black\;"><span style="font-family: calibri\,sans-serif\;">2. Training business and HR professionals on immigration law and processes\; and</span></span><br />\n<span style="color: black\;"><span style="font-family: calibri\,sans-serif\;">3. Working collaboratively with business and HR professionals to create easy to use systems to comply with federal and provincial immigration laws.</span></span><br />\n<span style="color: black\;"><span style="font-family: calibri\,sans-serif\;">A partner with Aikins Law\, Reis is also a member of the HRMAM Board. &nbsp\;</span></span><span style="color: rgb(75\, 75\, 77)\;"><span style="font-family: calibri\,sans-serif\;">&nbsp\;&nbsp\;&nbsp\;&nbsp\;&nbsp\;&nbsp\;&nbsp\;&nbsp\;&nbsp\;&nbsp\;&nbsp\;&nbsp\;&nbsp\;&nbsp\;&nbsp\;&nbsp\;&nbsp\;&nbsp\;&nbsp\;&nbsp\;&nbsp\;&nbsp\;&nbsp\;&nbsp\;&nbsp\;&nbsp\;&nbsp\;&nbsp\;&nbsp\;&nbsp\;&nbsp\;&nbsp\;&nbsp\;&nbsp\;&nbsp\;&nbsp\;&nbsp\;&nbsp\;&nbsp\;&nbsp\;&nbsp\;&nbsp\;&nbsp\;&nbsp\;&nbsp\;&nbsp\;&nbsp\;&nbsp\;&nbsp\;&nbsp\;&nbsp\;&nbsp\;&nbsp\;&nbsp\;&nbsp\;&nbsp\;&nbsp\;&nbsp\;&nbsp\;&nbsp\;&nbsp\; &nbsp\;&nbsp\;&nbsp\;&nbsp\;&nbsp\;&nbsp\;&nbsp\;&nbsp\;&nbsp\;&nbsp\;&nbsp\;&nbsp\;&nbsp\;&nbsp\;&nbsp\;&nbsp\;&nbsp\;&nbsp\;&nbsp\;&nbsp\;&nbsp\;&nbsp\;&nbsp\; </span></span><br />\n<br />\n<strong><span style="font-family: calibri\,sans-serif\;">Sarah Nantais </span></strong><span style="font-family: calibri\,sans-serif\;">has been living in Brandon for almost two years now. She worked as a Prospective student Advisor specializing in ESL students at NorQuest College in Edmonton\, Alberta before moving here. </span><br />\n<span style="font-family: calibri\,sans-serif\;">Sarah has her degree in English and a post-graduate certificate in teaching ESL. She has been teaching ESL students at Assiniboine Community College for the past year and currently works for Westman Immigrant Services as the Cultural Diversity Facilitator. &nbsp\;</span><br />\n<span style="font-family: calibri\,sans-serif\;">Coming from a multi-cultural family has given Sarah an insight into what it is like to be an immigrant in Canada as well as the ability to observe the process of integrating into Canadian Society. </span><br />\n&nbsp\;
LOCATION:Victoria Inn 3550 Victoria Avenue Brandon\, Manitoba R7B 2R4
UID:e.1595.283
SEQUENCE:3
DTSTAMP:20260420T064739Z
URL:https://dev.brandonchamber.ca/events/details/hrmam-temporary-foreign-workers-and-cultural-awareness-integration-05-28-2015-283
END:VEVENT

END:VCALENDAR
