BEGIN:VCALENDAR
VERSION:2.0
PRODID:-//ChamberMaster//Event Calendar 2.0//EN
METHOD:PUBLISH
X-PUBLISHED-TTL:P3D
REFRESH-INTERVAL:P3D
CALSCALE:GREGORIAN
BEGIN:VEVENT
DTSTART;VALUE=DATE:20160415
DTEND;VALUE=DATE:20160418
TRANSP:TRANSPARENT
X-MICROSOFT-CDO-ALLDAYEVENT:TRUE
SUMMARY:HORSE 3
DESCRIPTION:Enhance your Horse-Human connection:\n\nEquine Guided Education and Entertainment\n\n- Clinics\, Demos and Lectures\n\n- Equine-Centric Tradeshow\n\n- Naeric Trainers Challenge\n\n- Ride with Experts\n\nearly bird tickets on sale now.\n\ntickets.keystonecentre.com\n\nwww.keystonecentre.com/horse3
X-ALT-DESC;FMTTYPE=text/html:Enhance your Horse-Human connection:<br />\nEquine Guided Education and Entertainment<br />\n- Clinics\, Demos and Lectures<br />\n- Equine-Centric Tradeshow<br />\n- Naeric Trainers Challenge<br />\n- Ride with Experts<br />\nearly bird tickets on sale now.<br />\ntickets.keystonecentre.com<br />\n<a href="http://www.keystonecentre.com/horse3">www.keystonecentre.com/horse3</a><br />\n&nbsp\;
LOCATION:Keystone Centre
UID:e.1595.414
SEQUENCE:3
DTSTAMP:20260419T165219Z
URL:https://dev.brandonchamber.ca/events/details/horse-3-04-15-2016-414
END:VEVENT

END:VCALENDAR
