BEGIN:VCALENDAR
VERSION:2.0
PRODID:-//ChamberMaster//Event Calendar 2.0//EN
METHOD:PUBLISH
X-PUBLISHED-TTL:P3D
REFRESH-INTERVAL:P3D
CALSCALE:GREGORIAN
BEGIN:VEVENT
DTSTART:20141109T010000Z
DTEND:20141109T040000Z
X-MICROSOFT-CDO-ALLDAYEVENT:FALSE
SUMMARY:Holiday Magic - A Charitable Night of Shopping
DESCRIPTION:Holiday Magic - A Charitable Night of Shopping!\n\n\n\nPurchase a ticket for $5 from one of the participating charities or at Guest Services in support of The Women's Resource Centre to enjoy one night only specials\, amazing prizes and more!\n\n\n\nFor a complete listing of event details\, charities selling tickets\, store discounts and prizes please visit: http://www.shoppersmallbrandon.com/events_and_promotions.php
X-ALT-DESC;FMTTYPE=text/html:Holiday Magic - A Charitable Night of Shopping!<br />\n<br />\nPurchase a ticket for $5 from one of the participating charities or at Guest Services in support of The Women&#39\;s Resource Centre to enjoy one night only specials\, amazing prizes and more!<br />\n<br />\nFor a complete listing of event details\, charities selling tickets\, store discounts and prizes please visit:&nbsp\;http://www.shoppersmallbrandon.com/events_and_promotions.php
LOCATION:Shoppers Mall 1570 18th St. Brandon\, MB R7A 5C5
UID:e.1595.159
SEQUENCE:3
DTSTAMP:20260421T014035Z
URL:https://dev.brandonchamber.ca/events/details/holiday-magic-a-charitable-night-of-shopping-11-08-2014-159
END:VEVENT

END:VCALENDAR
