BEGIN:VCALENDAR
VERSION:2.0
PRODID:-//ChamberMaster//Event Calendar 2.0//EN
METHOD:PUBLISH
X-PUBLISHED-TTL:P3D
REFRESH-INTERVAL:P3D
CALSCALE:GREGORIAN
BEGIN:VEVENT
DTSTART:20150302T013000Z
DTEND:20150302T040000Z
X-MICROSOFT-CDO-ALLDAYEVENT:FALSE
SUMMARY:Gord Bamford
DESCRIPTION:The Brandon Area Community Foundation will kick start their 2015 anniversary celebration and their "Live & Give" Campaign\, they are pleased to announce a new fundraising concert in partnership with Canadian Country Music Star Gord Bamford. Gord\, with his strong philanthropic roots through his own Foundation will perform on Sunday March 1st\, 2015 at the WMCA.
X-ALT-DESC;FMTTYPE=text/html:The Brandon Area Community Foundation will kick start their 2015 anniversary celebration and their &quot\;Live &amp\; Give&quot\; Campaign\, they are pleased to announce a new fundraising concert in partnership with Canadian Country Music Star Gord Bamford. Gord\, with his strong philanthropic roots through his own Foundation will perform on <em><strong>Sunday March 1st\, 2015 at the WMCA</strong></em>.
LOCATION:Western Manitoba Centennial Auditorium 205-20th Street Brandon\, MB R7B 1L6
UID:e.1595.228
SEQUENCE:3
DTSTAMP:20260422T084526Z
URL:https://dev.brandonchamber.ca/events/details/gord-bamford-03-01-2015-228
END:VEVENT

END:VCALENDAR
