BEGIN:VCALENDAR
VERSION:2.0
PRODID:-//ChamberMaster//Event Calendar 2.0//EN
METHOD:PUBLISH
X-PUBLISHED-TTL:P3D
REFRESH-INTERVAL:P3D
CALSCALE:GREGORIAN
BEGIN:VEVENT
DTSTART:20130612T160000Z
DTEND:20130613T010000Z
X-MICROSOFT-CDO-ALLDAYEVENT:FALSE
SUMMARY:Golf Tournament (24th Annual)
DESCRIPTION:Come out and join us for a great day of golf with friends and associates!\n\nThe networking opportunities are endless!\n\n\n\nFormat: Scramble\, Best Ball\n\n\n	Various levels of Sponsorship packages are available. Increase your company's profile by being an active participant in this well attended event.
X-ALT-DESC;FMTTYPE=text/html:Come out and join us for a great day of&nbsp\;golf with friends and associates!<br />\nThe networking opportunities are endless!<br />\n<br />\nFormat: Scramble\, Best Ball<br />\n<p>\n	Various levels of Sponsorship packages are&nbsp\;available. Increase your company&#39\;s profile by being an active participant in this well attended event.</p>\n
LOCATION:Golf Course: Glen Lea Dinner & 19th Hole: Canad Inns Road House
UID:e.1595.17
SEQUENCE:3
DTSTAMP:20260421T220854Z
URL:https://dev.brandonchamber.ca/events/details/golf-tournament-24th-annual-06-12-2013-17
END:VEVENT

END:VCALENDAR
