BEGIN:VCALENDAR
VERSION:2.0
PRODID:-//ChamberMaster//Event Calendar 2.0//EN
METHOD:PUBLISH
X-PUBLISHED-TTL:P3D
REFRESH-INTERVAL:P3D
CALSCALE:GREGORIAN
BEGIN:VEVENT
DTSTART:20160311T160000Z
DTEND:20160311T170000Z
X-MICROSOFT-CDO-ALLDAYEVENT:FALSE
SUMMARY:Friday Coffee @ the Chamber - Winter Fair Fever
DESCRIPTION:Join us as we host special guests from the Provincial Exhibition as they discuss what businesses can do to support and make the most of the Royal Manitoba Winter Fair with it's significant economic impact to our community during the week of spring break.\n\n\n\nThe Chamber will unveil their #WinterFairFever decor as they compete for the "blue ribbon". Read more about the contest here.\n\n\n\nThese weekly events are an excellent networking opportunity for you and your business. No RSVPs\, no speeches and open to all members\, the Coffees are a great way to catch up with colleagues\, meet new comers and practice your networking skills in a casual setting.\n\n\n\nGreat coffee\, great snacks\, and great conversation.\n\nSponsored by Tim Hortons.
X-ALT-DESC;FMTTYPE=text/html:<span style="font-size: 16px\;"><span style="font-family: arial\;"><span style="color: black\;">Join us as we host special guests from the Provincial Exhibition as they discuss what businesses can do to support and make the most of the Royal Manitoba Winter Fair with it&#39\;s significant economic impact to our community during the week of spring break.<br />\n<br />\nThe Chamber will unveil their #WinterFairFever decor as they compete for the &quot\;blue ribbon&quot\;. Read more about the contest <a href="http://brandonchamberofcommerce.chambermaster.com/news/details/winter-fair-fever-is-spreading-throughout-the-brandon-business-community">here</a>.<br />\n<br />\nThese weekly events are an excellent networking opportunity for you and your business. No RSVPs\, no speeches and open to all members\, the Coffees are a great way to catch up with colleagues\, meet new comers and practice your networking skills in a casual setting.</span><br />\n<br />\nGreat coffee\, great snacks\, and&nbsp\;great conversation.</span><br />\n<span style="font-family: century gothic\,sans-serif\;"><span style="color: black\;">S</span></span>ponsored by <a href="http://brandonchamberofcommerce.chambermaster.com/list/member/tim-hortons-271">Tim Hortons</a>.</span>
LOCATION:Chamber Office 1043 Rosser Ave
UID:e.1595.370
SEQUENCE:3
DTSTAMP:20260419T171216Z
URL:https://dev.brandonchamber.ca/events/details/friday-coffee-the-chamber-winter-fair-fever-03-11-2016-370
END:VEVENT

END:VCALENDAR
