BEGIN:VCALENDAR
VERSION:2.0
PRODID:-//ChamberMaster//Event Calendar 2.0//EN
METHOD:PUBLISH
X-PUBLISHED-TTL:P3D
REFRESH-INTERVAL:P3D
CALSCALE:GREGORIAN
BEGIN:VEVENT
DTSTART:20160610T150000Z
DTEND:20160610T160000Z
X-MICROSOFT-CDO-ALLDAYEVENT:FALSE
SUMMARY:Friday Coffee @ the Chamber - Special Guest Terry Burgess
DESCRIPTION:Join us June 10th with our special guest - Terry Burgess\, our newly elected Chamber president!\n\n\n\nThese weekly events are an excellent networking opportunity for you and your business. No RSVPs\, no speeches and open to all members\, the Coffees are a great way to catch up with colleagues\, meet new comers and practice your networking skills in a casual setting.\n\n\n\nGreat coffee\, great snacks\, and great conversation.\n\nSponsored by Tim Hortons.
X-ALT-DESC;FMTTYPE=text/html:<p><span style="font-family: arial\;"><span style="font-size: 10pt\;"><span style="color: black\;">Join us June 10th with our special guest - Terry Burgess\, our newly elected Chamber president!</span></span></span></p>\n\n<p><br />\n<span style="font-family: arial\;"><span style="font-size: 10pt\;"><span style="color: black\;">These weekly events are an excellent networking opportunity for you and your business. No RSVPs\, no speeches and open to all members\, the Coffees are a great way to catch up with colleagues\, meet new comers and practice your networking skills in a casual setting.</span></span><br />\n<br />\nGreat coffee\, great snacks\, and&nbsp\;great conversation.</span><br />\n<span style="font-size: 10pt\;"><span style="font-family: century gothic\,sans-serif\;"><span style="color: black\;">S</span></span></span>ponsored by <a href="http://brandonchamberofcommerce.chambermaster.com/list/member/tim-hortons-271">Tim Hortons</a>.</p>\n
LOCATION:Chamber Office 1043 Rosser Ave
UID:e.1595.383
SEQUENCE:3
DTSTAMP:20260419T131528Z
URL:https://dev.brandonchamber.ca/events/details/friday-coffee-the-chamber-special-guest-terry-burgess-06-10-2016-383
END:VEVENT

END:VCALENDAR
