BEGIN:VCALENDAR
VERSION:2.0
PRODID:-//ChamberMaster//Event Calendar 2.0//EN
METHOD:PUBLISH
X-PUBLISHED-TTL:P3D
REFRESH-INTERVAL:P3D
CALSCALE:GREGORIAN
BEGIN:VEVENT
DTSTART:20151113T160000Z
DTEND:20151113T170000Z
X-MICROSOFT-CDO-ALLDAYEVENT:FALSE
SUMMARY:Friday Coffee @ the Chamber - Special Guest
DESCRIPTION:Come and meet Carly Gasparini\, incoming General Manger for the Brandon Neighbourhood Renewal Corporation. Hear what BNRC is working on and the transition from current General Manager\, Marty Snelling.\n\n\n\nThese weekly events are an excellent networking opportunity for you and your business. No RSVPs\, no speeches and open to all members\, the Coffees are a great way to catch up with colleagues\, meet new comers and practice your networking skills in a casual setting.\n\n\n\nGreat coffee\, great snacks\, and great conversation.\n\nSponsored by Tim Hortons.
X-ALT-DESC;FMTTYPE=text/html:<span style="font-family: arial\;"><span style="font-size: 10pt\;"><span style="color: black\;">Come and meet Carly Gasparini\, incoming General Manger for the <a href="http://brandonchamberofcommerce.chambermaster.com/list/member/brandon-neighbourhood-renewal-corp-272">Brandon Neighbourhood Renewal Corporation</a>. Hear what BNRC is working on and the transition from current General Manager\, Marty Snelling.<br />\n<br />\nThese weekly events are an excellent networking opportunity for you and your business. No RSVPs\, no speeches and open to all members\, the Coffees are a great way to catch up with colleagues\, meet new comers and practice your networking skills in a casual setting.</span></span><br />\n<br />\nGreat coffee\, great snacks\, and&nbsp\;great conversation.</span><br />\n<span style="font-size: 10pt\;"><span style="font-family: century gothic\,sans-serif\;"><span style="color: black\;">S</span></span></span>ponsored by <a href="http://brandonchamberofcommerce.chambermaster.com/list/member/tim-hortons-271">Tim Hortons</a>.
LOCATION:Chamber Office 1043 Rosser Ave
UID:e.1595.353
SEQUENCE:3
DTSTAMP:20260419T222617Z
URL:https://dev.brandonchamber.ca/events/details/friday-coffee-the-chamber-special-guest-11-13-2015-353
END:VEVENT

END:VCALENDAR
