BEGIN:VCALENDAR
VERSION:2.0
PRODID:-//ChamberMaster//Event Calendar 2.0//EN
METHOD:PUBLISH
X-PUBLISHED-TTL:P3D
REFRESH-INTERVAL:P3D
CALSCALE:GREGORIAN
BEGIN:VEVENT
DTSTART:20160415T150000Z
DTEND:20160415T160000Z
X-MICROSOFT-CDO-ALLDAYEVENT:FALSE
SUMMARY:Friday Coffee @ the Chamber - Special Guest
DESCRIPTION:Meet Chuck Davidson\, President & CEO of the Manitoba Chambers of Commerce. He will discuss highlights of the previous and upcoming Chamber projects.\n\n\n\nThe Manitoba Chambers of Commerce\, established in 1931\, is the umbrella organization for Manitoba's chamber movement. With a membership comprised of Local Chambers of Commerce as well direct Corporate Members\, the Manitoba Chambers of Commerce is Manitoba's largest business lobby\, representing over 10\,000 businesses and community leaders.\n\n\n\nFriday Coffee provides an excellent networking opportunity for you and your business. No RSVPs\, and open to all members\, the event is a great way to catch up with colleagues\, meet new comers and practice your networking skills in a casual setting.\n\n\n\nGreat coffee\, great snacks\, and great conversation.\n\nSponsored by Tim Hortons.
X-ALT-DESC;FMTTYPE=text/html:<span style="font-family: arial\;"><span style="font-size: 10pt\;"><span style="color: black\;">Meet Chuck Davidson\, President &amp\; CEO of the Manitoba Chambers of Commerce. He will discuss highlights of the previous and&nbsp\;upcoming Chamber projects.</span></span></span><br />\n<br />\nThe Manitoba Chambers of Commerce\, established in 1931\, is the umbrella organization for Manitoba&rsquo\;s chamber movement. With a membership comprised of Local Chambers of Commerce as well direct Corporate Members\, the Manitoba Chambers of Commerce is Manitoba&rsquo\;s largest business lobby\, representing over 10\,000 businesses and community leaders.<br />\n<br />\n<span style="font-family: arial\;"><span style="font-size: 10pt\;"><span style="color: black\;">Friday Coffee provides an excellent networking opportunity for you and your business. No RSVPs\, and open to all members\, the event is&nbsp\;a great way to catch up with colleagues\, meet new comers and practice your networking skills in a casual setting.</span></span><br />\n<br />\nGreat coffee\, great snacks\, and&nbsp\;great conversation.</span><br />\n<span style="font-size: 10pt\;"><span style="font-family: century gothic\,sans-serif\;"><span style="color: black\;">S</span></span></span>ponsored by <a href="http://brandonchamberofcommerce.chambermaster.com/list/member/tim-hortons-271">Tim Hortons</a>.
LOCATION:Chamber Office 1043 Rosser Ave
UID:e.1595.375
SEQUENCE:3
DTSTAMP:20260419T155456Z
URL:https://dev.brandonchamber.ca/events/details/friday-coffee-the-chamber-special-guest-04-15-2016-375
END:VEVENT

END:VCALENDAR
