BEGIN:VCALENDAR
VERSION:2.0
PRODID:-//ChamberMaster//Event Calendar 2.0//EN
METHOD:PUBLISH
X-PUBLISHED-TTL:P3D
REFRESH-INTERVAL:P3D
CALSCALE:GREGORIAN
BEGIN:VEVENT
DTSTART:20151023T150000Z
DTEND:20151023T160000Z
X-MICROSOFT-CDO-ALLDAYEVENT:FALSE
SUMMARY:Friday Coffee @ the Chamber-Meet the New Base Commander
DESCRIPTION:On July 31st\, 2015\, Lieutenant-Colonel John Cochrane took over as the new Base Commander for CFB Shilo. He would like to take this opportunity to personally meet with Brandon's business community and answer any questions you may have about CFB Shilo.\n\n\n\nLieutenant Colonel John Cochrane was born in Toronto\, Ontario and received his commission as an officer in the Canadian Armed Forces in 1995. He has had the opportunity to participate on a variety of foreign and domestic deployments including Bosnia in 1997\, Afghanistan in 2004 and 2009.  In addition\, he has participated in a number of domestic deployments to Manitoba for the Red River floods in 1998\, the BC forest fires in 2003\, and once again Manitoba for floods in 2011.  He is married to Kate and has two children who keep him occupied at the hockey rink in his spare time.    \n\n\n\nCanadian Forces Base (CFB) Shilo has been the site of military activity in the region since 1910.\nThe training area of CFB Shilo covers almost 40\,000 hectares\, an area approximately 15 km by 30 km. Its mission is to enable success of training\, operations and force generation activities by providing premiere training venues and the professional delivery of comprehensive support to lodger units and dependencies.\n\n\nThese weekly Coffee breaks are an excellent networking opportunity for you and your business. No RSVPs\, no speeches and open to all members\, the Coffees are a great way to catch up with colleagues\, meet new comers and practice your networking skills in a casual setting.\n\n\n\nGreat coffee\, great snacks\, and great conversation.\n\nSponsored by Tim Hortons.
X-ALT-DESC;FMTTYPE=text/html:<span style="font-size: 14px\;"><span style="font-family: arial\;"><font color="#000000">On July 31st\, 2015\,&nbsp\;</font>Lieutenant-Colonel John Cochrane<font color="#000000"> took&nbsp\;over as the new Base Commander&nbsp\;</font><span style="color: black\;">for <strong><a href="http://brandonchamberofcommerce.chambermaster.com/list/member/cfb-shilo-912">CFB Shilo</a>.&nbsp\;</strong></span>He would like to take this opportunity to personally meet with Brandon&rsquo\;s business community and answer any questions you may have about CFB Shilo.</span></span><br />\n<br />\n<span style="font-size: medium\;"><span style="font-family: calibri\;"><span style="font-size: 14px\;"><span style="font-family: arial\;">Lieutenant Colonel John Cochrane was born in Toronto\, Ontario and received his commission as an officer in the Canadian Armed Forces in 1995. He has had the opportunity to participate on a variety of foreign and domestic deployments including Bosnia in 1997\, Afghanistan in 2004 and 2009.&nbsp\; In addition\, he has participated in a number of domestic deployments to Manitoba for the Red River floods in 1998\, the BC forest fires in 2003\, and once again Manitoba for floods in 2011.&nbsp\; He is married to Kate and has two children who keep him occupied at the hockey rink in his spare time</span></span>.&nbsp\;&nbsp\;&nbsp\;&nbsp\;</span></span><br />\n<br />\nCanadian Forces Base (CFB)&nbsp\;Shilo has been the site of military activity in the region since 1910.\n<p>The training area of CFB Shilo covers almost 40\,000 hectares\, an area approximately 15 km by 30 km. Its mission is to enable success of training\, operations and force generation activities by providing <span style="font-size: 14px\;">premiere training venues and the professional delivery of comprehensive support to lodger units and dependencies.</span></p>\n<br />\n<span style="font-size: 14px\;"><span style="color: black\;">These weekly Coffee breaks are an excellent networking opportunity for you and your business. No RSVPs\, no speeches and open to all members\, the Coffees are a great way to catch up with colleagues\, meet new comers and practice your networking skills in a casual setting.</span><br />\n<br />\nGreat coffee\, great snacks\, and&nbsp\;great conversation.<br />\n<span style="font-family: century gothic\,sans-serif\;"><span style="color: black\;">S</span></span>ponsored by <a href="http://brandonchamberofcommerce.chambermaster.com/list/member/tim-hortons-271">Tim Hortons</a>.</span>
LOCATION:Chamber Office 1043 Rosser Ave
UID:e.1595.350
SEQUENCE:3
DTSTAMP:20260419T234356Z
URL:https://dev.brandonchamber.ca/events/details/friday-coffee-the-chamber-meet-the-new-base-commander-10-23-2015-350
END:VEVENT

END:VCALENDAR
