BEGIN:VCALENDAR
VERSION:2.0
PRODID:-//ChamberMaster//Event Calendar 2.0//EN
METHOD:PUBLISH
X-PUBLISHED-TTL:P3D
REFRESH-INTERVAL:P3D
CALSCALE:GREGORIAN
BEGIN:VEVENT
DTSTART:20141017T150000Z
DTEND:20141017T160000Z
X-MICROSOFT-CDO-ALLDAYEVENT:FALSE
SUMMARY:Friday Coffee @ the Chamber - Meet the Mayoral Candidates 2014
DESCRIPTION:Sep 26 - John Paul Jacobson\n\nOct 3   - Shari Decter Hirst\n\nOct 10 - Rick Chrest\n\nOct 17 - Mark Kovatch \n\n\nStop by the Chamber office every Friday for Coffee sponsored by Tim Hortons. Great coffee\, great snacks\, and great conversation.
X-ALT-DESC;FMTTYPE=text/html:<p _mce_style="margin-top: 0px\; margin-bottom: 0px\; color: #652f03\;" style="margin-top: 0px\; margin-bottom: 0px\; color: #652f03\;"><span style="color:#000000\;"><strong>Sep 26 - John Paul Jacobson</strong></span></p>\n\n<p _mce_style="margin-top: 0px\; margin-bottom: 0px\; color: #652f03\;" style="margin-top: 0px\; margin-bottom: 0px\; color: #652f03\;"><span style="color:#000000\;"><strong>Oct 3&nbsp\;&nbsp\; - Shari Decter Hirst</strong></span></p>\n\n<p _mce_style="margin-top: 0px\; margin-bottom: 0px\; color: #652f03\;" style="margin-top: 0px\; margin-bottom: 0px\; color: #652f03\;"><span style="color:#000000\;"><strong>Oct 10 - Rick Chrest</strong></span></p>\n\n<p _mce_style="margin-top: 0px\; margin-bottom: 0px\; color: #652f03\;" style="margin-top: 0px\; margin-bottom: 0px\; color: #652f03\;"><span style="color:#000000\;"><strong>Oct 17 - Mark Kovatch</strong>&nbsp\;</span></p>\n<br />\nStop by the Chamber office every Friday&nbsp\;for&nbsp\;Coffee sponsored by <a href="http://brandonchamberofcommerce.chambermaster.com/list/member/tim-hortons-271">Tim Hortons</a>. Great coffee\, great snacks\, and&nbsp\;great conversation.
LOCATION:Chamber Office 1043 Rosser Ave
UID:e.1595.137
SEQUENCE:3
DTSTAMP:20260421T001738Z
URL:https://dev.brandonchamber.ca/events/details/friday-coffee-the-chamber-meet-the-mayoral-candidates-2014-10-17-2014-137
END:VEVENT

END:VCALENDAR
