BEGIN:VCALENDAR
VERSION:2.0
PRODID:-//ChamberMaster//Event Calendar 2.0//EN
METHOD:PUBLISH
X-PUBLISHED-TTL:P3D
REFRESH-INTERVAL:P3D
CALSCALE:GREGORIAN
BEGIN:VEVENT
DTSTART:20160624T150000Z
DTEND:20160624T160000Z
X-MICROSOFT-CDO-ALLDAYEVENT:FALSE
SUMMARY:Friday Coffee @ the Chamber - Last Call before summer!
DESCRIPTION:Join us for the last Chamber Coffee of the season!\n\nThese weekly events are an excellent networking opportunity for you and your business. No RSVPs\, no speeches and open to all members\, the Coffees are a great way to catch up with colleagues\, meet new comers and practice your networking skills in a casual setting. Come and go as your schedule fits.\n\n\n\n\n\nGreat coffee\, great snacks\, and great conversation. Sponsored by Tim Hortons.\n\n\n\n(Chamber Friday Coffees will start up again in September 2016)
X-ALT-DESC;FMTTYPE=text/html:<p><span style="font-size: 14px\;"><span style="font-family: arial\;"><span style="color: black\;">Join us for the last Chamber Coffee of the season!</span></span></span></p>\n\n<p><span style="font-size: 14px\;"><span style="font-family: arial\;"><span style="color: black\;">These weekly events are an excellent networking opportunity for you and your business. No RSVPs\, no speeches and open to all members\, the Coffees are a great way to catch up with colleagues\, meet new comers and practice your networking skills in a casual setting. <font color="#333333">Come and go as your schedule fits.</font></span><br />\n<br />\n<br />\nGreat coffee\, great snacks\, and&nbsp\;great conversation. </span><span style="font-family: century gothic\,sans-serif\;"><span style="color: black\;">S</span></span>ponsored by <a href="http://brandonchamberofcommerce.chambermaster.com/list/member/tim-hortons-271">Tim Hortons</a>.<br />\n<br />\n<em>(Chamber Friday Coffees will start up again in September 2016)</em></span></p>\n
LOCATION:Chamber Office 1043 Rosser Ave
UID:e.1595.385
SEQUENCE:3
DTSTAMP:20260419T131108Z
URL:https://dev.brandonchamber.ca/events/details/friday-coffee-the-chamber-last-call-before-summer-06-24-2016-385
END:VEVENT

END:VCALENDAR
