BEGIN:VCALENDAR
VERSION:2.0
PRODID:-//ChamberMaster//Event Calendar 2.0//EN
METHOD:PUBLISH
X-PUBLISHED-TTL:P3D
REFRESH-INTERVAL:P3D
CALSCALE:GREGORIAN
BEGIN:VEVENT
DTSTART:20160304T160000Z
DTEND:20160304T170000Z
X-MICROSOFT-CDO-ALLDAYEVENT:FALSE
SUMMARY:Friday Coffee @ the Chamber - International Women's Day
DESCRIPTION:Join us for the second annual International Women's Day themed Coffee @ the Chamber. Local businesswomen and entrepreneurs have been invited to attend as special guests. This is a casual event\, with no formal agenda\, where local issues are discussed. It is a good chance to meet\, share\, and learn about our local businesswomen and resources available. \n\n\n\nInternational Women's Day (March 8) is a global day celebrating the social\, economic\, cultural and political achievements of women. International Women's Day is a time to reflect on progress made\, to call for change and to celebrate acts of courage and determination by ordinary women who have played an extraordinary role in the history of their countries and communities. IWD 2016 marks a call to action for accelerating gender parity to advance women in the workplace. Accelerators have been identified to change the trajectory of women's advancement:\n\n\n	Illuminate the path to leadership: make career opportunities more visible to women\n	Speed up culture change with progressive corporate policy \n	Build supportive environments and work to eliminate conscious and unconscious bias \n\n\nwww.internationalwomensday.com\n\n\n\nGreat coffee\, great snacks\, and great conversation.\n\n\n\nSponsored by Tim Hortons.
X-ALT-DESC;FMTTYPE=text/html:<span style="font-size: 14px\;"><span style="font-family: arial\;">Join us for the second annual International Women&#39\;s Day themed Coffee @ the Chamber. Local businesswomen and entrepreneurs have been invited to attend as special guests.&nbsp\;This is a casual event\, with no formal agenda\, where local </span></span><span style="font-size: 14px\;"><span style="font-family: arial\;">issues are discussed. It&nbsp\;is a good chance to meet\, share\, and learn about our local businesswomen and resources available.&nbsp\;</span></span><br />\n<br />\n<span style="font-size: 14px\;"><strong><span style="color: rgb(128\, 0\, 128)\;">International Women&#39\;s Day</span></strong><span style="color: rgb(128\, 0\, 128)\;"> (March 8)</span> is a global day celebrating the social\, economic\, cultural and political achievements of women. International Women&rsquo\;s Day is a time to reflect on progress made\, to call for change and to celebrate acts of courage and determination by ordinary women who have played an extraordinary role in the history of their countries and communities. IWD 2016 marks a call to action for accelerating gender parity&nbsp\;<span style="font-family: arial\;">to advance women in the workplace. Accelerators have been identified&nbsp\;to change the trajectory of women&#39\;s advancement:</span></span>\n\n<ul>\n	<li><span style="font-size: 14px\;"><span style="font-family: arial\;">Illuminate the path to leadership: make career opportunities more visible to women</span></span></li>\n	<li><span style="font-size: 14px\;"><span style="font-family: arial\;">Speed up culture change with progressive corporate policy </span></span></li>\n	<li><span style="font-size: 14px\;"><span style="font-family: arial\;">Build supportive environments and work to eliminate conscious and unconscious bias </span></span></li>\n</ul>\n\n<p><span style="font-family: arial\;"><span style="font-size: 10pt\;"><a href="http://www.internationalwomensday.com/"><span style="color: rgb(128\, 0\, 128)\;"><strong><font size="3">www.internationalwomensday.com</font></strong></span></a></span><br />\n<br />\nGreat coffee\, great snacks\, and&nbsp\;great conversation.</span></p>\n\n<p><br />\n<span style="font-size: 10pt\;"><span style="font-family: century gothic\,sans-serif\;"><span style="color: black\;">S</span></span></span>ponsored by <a href="http://brandonchamberofcommerce.chambermaster.com/list/member/tim-hortons-271">Tim Hortons</a>.</p>\n
LOCATION:Chamber Office 1043 Rosser Ave
UID:e.1595.369
SEQUENCE:3
DTSTAMP:20260419T171307Z
URL:https://dev.brandonchamber.ca/events/details/friday-coffee-the-chamber-international-women-s-day-03-04-2016-369
END:VEVENT

END:VCALENDAR
