BEGIN:VCALENDAR
VERSION:2.0
PRODID:-//ChamberMaster//Event Calendar 2.0//EN
METHOD:PUBLISH
X-PUBLISHED-TTL:P3D
REFRESH-INTERVAL:P3D
CALSCALE:GREGORIAN
BEGIN:VEVENT
DTSTART:20150626T150000Z
DTEND:20150626T160000Z
X-MICROSOFT-CDO-ALLDAYEVENT:FALSE
SUMMARY:Friday Coffee @ the Chamber - BU President
DESCRIPTION:Chamber Coffees promote the exchange of ideas and discussion. \n\nThis week we host special guest: Dr. Gervan Fearon\, President of Brandon University who will share insights on current issues and topics relevant to one of the city's largest post-secondary education institutions.\n\n\n\nThese weekly Chamber coffee breaks are an excellent opportunity for you and your organization. No RSVPs\, no speeches and open to all employees of member businesses\, the Coffees are a great way to catch up with colleagues\, meet new-comers and practice your networking skills in a casual setting.\n\nGreat coffee\, great snacks\, and great conversation!\n\n\n\nSponsored by Tim Hortons.
X-ALT-DESC;FMTTYPE=text/html:Chamber Coffees promote the exchange of ideas and discussion.&nbsp\;<br />\nThis week we&nbsp\;host special guest: Dr. Gervan Fearon\, President of <a href="http://brandonchamberofcommerce.chambermaster.com/list/member/brandon-university-brandon-118"><font color="#0066cc">Brandon</font></a><a href="http://brandonchamberofcommerce.chambermaster.com/list/member/brandon-university-brandon-118"> University </a>who will share insights on current issues and topics relevant to one of the city&#39\;s largest post-secondary education institutions.<br />\n<br />\nThese weekly Chamber coffee breaks are an excellent opportunity for you and your organization. No RSVPs\, no speeches and open to all employees of member businesses\, the Coffees are a great way to catch up with colleagues\, meet new-comers and practice your networking skills in a casual setting.<br />\nGreat coffee\, great snacks\, and&nbsp\;great conversation!<br />\n<br />\nSponsored by <a href="http://brandonchamberofcommerce.chambermaster.com/list/member/tim-hortons-271"><font color="#0066cc">Tim Hortons</font></a>.
LOCATION:Chamber Office 1043 Rosser Ave
UID:e.1595.324
SEQUENCE:3
DTSTAMP:20260420T053113Z
URL:https://dev.brandonchamber.ca/events/details/friday-coffee-the-chamber-bu-president-06-26-2015-324
END:VEVENT

END:VCALENDAR
