BEGIN:VCALENDAR
VERSION:2.0
PRODID:-//ChamberMaster//Event Calendar 2.0//EN
METHOD:PUBLISH
X-PUBLISHED-TTL:P3D
REFRESH-INTERVAL:P3D
CALSCALE:GREGORIAN
BEGIN:VEVENT
DTSTART:20141107T160000Z
DTEND:20141107T170000Z
X-MICROSOFT-CDO-ALLDAYEVENT:FALSE
SUMMARY:Friday Coffee @ the Chamber 2014 2
DESCRIPTION:Stop by the Chamber office every Friday for Coffee sponsored by Tim Hortons. Great coffee\, great snacks\, and great conversation.
X-ALT-DESC;FMTTYPE=text/html:Stop by the Chamber office every Friday&nbsp\;for&nbsp\;Coffee sponsored by <a href="http://brandonchamberofcommerce.chambermaster.com/list/member/tim-hortons-271">Tim Hortons</a>. Great coffee\, great snacks\, and&nbsp\;great conversation.
LOCATION:Chamber Office 1043 Rosser Ave
UID:e.1595.150
SEQUENCE:3
DTSTAMP:20260420T224929Z
URL:https://dev.brandonchamber.ca/events/details/friday-coffee-the-chamber-2014-2-11-07-2014-150
END:VEVENT

END:VCALENDAR
