BEGIN:VCALENDAR
VERSION:2.0
PRODID:-//ChamberMaster//Event Calendar 2.0//EN
METHOD:PUBLISH
X-PUBLISHED-TTL:P3D
REFRESH-INTERVAL:P3D
CALSCALE:GREGORIAN
BEGIN:VEVENT
DTSTART:20141219T160000Z
DTEND:20141219T180000Z
X-MICROSOFT-CDO-ALLDAYEVENT:FALSE
SUMMARY:Friday Coffee @ the Chamber
DESCRIPTION:Stop by the Chamber office for a special Friday Coffee sponsored by Tim Hortons.and Open House. Great coffee\, treats\, and conversation.\n\n\n\nBring a friend! See our Heritage Building! Come and go as you like!
X-ALT-DESC;FMTTYPE=text/html:Stop by the Chamber office&nbsp\;for a special&nbsp\;Friday&nbsp\;Coffee sponsored by <a href="http://brandonchamberofcommerce.chambermaster.com/list/member/tim-hortons-271">Tim Hortons</a>.and Open House.&nbsp\;Great coffee\, treats\, and&nbsp\;conversation.<br />\n<br />\nBring a friend! See our Heritage Building! Come and go as you like!
LOCATION:Chamber Office 1043 Rosser Ave
UID:e.1595.156
SEQUENCE:3
DTSTAMP:20260420T213941Z
URL:https://dev.brandonchamber.ca/events/details/friday-coffee-the-chamber-12-19-2014-156
END:VEVENT

END:VCALENDAR
