BEGIN:VCALENDAR
VERSION:2.0
PRODID:-//ChamberMaster//Event Calendar 2.0//EN
METHOD:PUBLISH
X-PUBLISHED-TTL:P3D
REFRESH-INTERVAL:P3D
CALSCALE:GREGORIAN
BEGIN:VEVENT
DTSTART:20150619T150000Z
DTEND:20150619T160000Z
X-MICROSOFT-CDO-ALLDAYEVENT:FALSE
SUMMARY:Friday Coffee @ the Chamber
DESCRIPTION:These weekly Chamber coffee breaks are an excellent opportunity for you and your organization. No RSVPs\, no speeches and open to all employees of member businesses\, the Coffees are a great way to catch up with colleagues\, meet new-comers and practice your networking skills in a casual setting.\n\n\n\nGreat coffee\, great snacks\, and great conversation!\n\n\n\nSponsored by Tim Hortons.
X-ALT-DESC;FMTTYPE=text/html:These weekly Chamber coffee breaks are an excellent opportunity for you and your organization. No RSVPs\, no speeches and open to all employees of member businesses\, the Coffees are a great way to catch up with colleagues\, meet new-comers and practice your networking skills in a casual setting.<br />\n<br />\nGreat coffee\, great snacks\, and&nbsp\;great conversation!<br />\n<br />\nSponsored by <a href="http://brandonchamberofcommerce.chambermaster.com/list/member/tim-hortons-271">Tim Hortons</a>.
LOCATION:Chamber Office 1043 Rosser Ave
UID:e.1595.323
SEQUENCE:3
DTSTAMP:20260420T052859Z
URL:https://dev.brandonchamber.ca/events/details/friday-coffee-the-chamber-06-19-2015-323
END:VEVENT

END:VCALENDAR
