BEGIN:VCALENDAR
VERSION:2.0
PRODID:-//ChamberMaster//Event Calendar 2.0//EN
METHOD:PUBLISH
X-PUBLISHED-TTL:P3D
REFRESH-INTERVAL:P3D
CALSCALE:GREGORIAN
BEGIN:VEVENT
DTSTART:20150306T160000Z
DTEND:20150306T170000Z
X-MICROSOFT-CDO-ALLDAYEVENT:FALSE
SUMMARY:Friday Coffee @ the Chamber
DESCRIPTION:With International Women's Day coming up on March 8th\, we will celebrate our local businesswomen and entrepreneurs with a special Friday Coffee @ the Chamber.\n\n\n\nThis is a great chance to meet\, share ideas with\, and learn from our own women in business. The event is open to our whole membership (men & women alike) and is always a casual place to discuss local issues\, business and more.\n\n\n\nThese events are deliciously sponsored by Tim Hortons.\n\nJoin us for great coffee\, great snacks\, and great conversation.
X-ALT-DESC;FMTTYPE=text/html:With International Women&#39\;s Day coming up on March 8th\, we will celebrate our local businesswomen and entrepreneurs with a special Friday Coffee @ the Chamber.<br />\n<br />\nThis is a great chance to meet\, share ideas with\, and learn from our own women in business. The event is open to our whole membership (men &amp\; women alike) and is always a casual place to discuss local issues\, business and more.<br />\n<br />\nThese events are deliciously sponsored by <a href="http://brandonchamberofcommerce.chambermaster.com/list/member/tim-hortons-271">Tim Hortons</a>.<br />\nJoin us for great coffee\, great snacks\, and&nbsp\;great conversation.
LOCATION:Chamber Office 1043 Rosser Ave
UID:e.1595.242
SEQUENCE:3
DTSTAMP:20260422T100640Z
URL:https://dev.brandonchamber.ca/events/details/friday-coffee-the-chamber-03-06-2015-242
END:VEVENT

END:VCALENDAR
