BEGIN:VCALENDAR
VERSION:2.0
PRODID:-//ChamberMaster//Event Calendar 2.0//EN
METHOD:PUBLISH
X-PUBLISHED-TTL:P3D
REFRESH-INTERVAL:P3D
CALSCALE:GREGORIAN
BEGIN:VEVENT
DTSTART:20160226T160000Z
DTEND:20160226T170000Z
X-MICROSOFT-CDO-ALLDAYEVENT:FALSE
SUMMARY:Friday Coffee @ the Chamber
DESCRIPTION:Unfortunately\, Colonel Lacroix's trip to the area has been cancelled. Friday Coffee will be scheduled to run as usual.\n\n\n\nColonel Stephen Lacroix was to visit our community to speak with Brandon Businesses. He is commander of the 3rd Canadian Division Support Group based in Edmonton\; CFB Shilo is part of his area of responsibility.\n\n\n\nThese weekly events are an excellent networking opportunity for you and your business. No RSVPs\, no speeches and open to all members\, the Coffees are a great way to catch up with colleagues\, meet new comers and practice your networking skills in a casual setting.\n\n\n\nGreat coffee\, great snacks\, and great conversation.\n\nSponsored by Tim Hortons.
X-ALT-DESC;FMTTYPE=text/html:<br />\n<span style="font-size: 14px\;"><span style="font-family: arial\;"><span style="font-size: 14px\;"><span style="font-family: arial\;">Unfortunately\, Colonel Lacroix&#39\;s trip to the area&nbsp\;has been cancelled. Friday Coffee will be scheduled to run as usual.</span></span><br />\n<br />\nColonel Stephen Lacroix was to visit our community to speak with Brandon Businesses. He is commander of the 3<sup>rd</sup> Canadian Division Support Group based in Edmonton\;&nbsp\;CFB Shilo is part of his area of responsibility.<br />\n<br />\n<span style="color: black\;">These weekly events are an excellent networking opportunity for you and your business. No RSVPs\, no speeches and open to all members\, the Coffees are a great way to catch up with colleagues\, meet new comers and practice your networking skills in a casual setting.</span><br />\n<br />\nGreat coffee\, great snacks\, and&nbsp\;great conversation.<br />\n<span style="color: black\;">S</span>ponsored by <a href="http://brandonchamberofcommerce.chambermaster.com/list/member/tim-hortons-271">Tim Hortons</a>.</span></span>
LOCATION:Chamber Office 1043 Rosser Ave
UID:e.1595.368
SEQUENCE:3
DTSTAMP:20260419T182746Z
URL:https://dev.brandonchamber.ca/events/details/friday-coffee-the-chamber-02-26-2016-368
END:VEVENT

END:VCALENDAR
