BEGIN:VCALENDAR
VERSION:2.0
PRODID:-//ChamberMaster//Event Calendar 2.0//EN
METHOD:PUBLISH
X-PUBLISHED-TTL:P3D
REFRESH-INTERVAL:P3D
CALSCALE:GREGORIAN
BEGIN:VEVENT
DTSTART:20150213T160000Z
DTEND:20150213T170000Z
X-MICROSOFT-CDO-ALLDAYEVENT:FALSE
SUMMARY:Friday Coffee @ the Chamber
DESCRIPTION:Join some of our Brandon School Division Trustees here at the Chamber office to discuss current issues and topics. Open to all members\, and employees of our member businesses\, there is no agenda for this casual\, conversational event.\n\n\n\nConfirmed Trustees:\n\n	Chairperson Mark Sefton\n	Peter Bartlette\n	Jim Murray\n	Pat Bowslaugh\n	George Buri\n\n\n\nStop by the Chamber office every Friday for Coffee sponsored by Tim Hortons. Great coffee\, great snacks\, and great conversation.
X-ALT-DESC;FMTTYPE=text/html:Join some of our Brandon School Division Trustees here at the Chamber office to discuss current issues and topics. Open to all members\, and employees of our member businesses\, there is no agenda for this casual\, conversational event.<br />\n<br />\nConfirmed Trustees:\n<ul>\n	<li>Chairperson Mark Sefton</li>\n	<li>Peter Bartlette</li>\n	<li>Jim Murray</li>\n	<li>Pat Bowslaugh</li>\n	<li>George Buri</li>\n</ul>\n<br />\nStop by the Chamber office every Friday&nbsp\;for&nbsp\;Coffee sponsored by <a href="http://brandonchamberofcommerce.chambermaster.com/list/member/tim-hortons-271">Tim Hortons</a>. Great coffee\, great snacks\, and&nbsp\;great conversation.
LOCATION:Chamber Office 1043 Rosser Ave
UID:e.1595.216
SEQUENCE:3
DTSTAMP:20260422T100623Z
URL:https://dev.brandonchamber.ca/events/details/friday-coffee-the-chamber-02-13-2015-216
END:VEVENT

END:VCALENDAR
