BEGIN:VCALENDAR
VERSION:2.0
PRODID:-//ChamberMaster//Event Calendar 2.0//EN
METHOD:PUBLISH
X-PUBLISHED-TTL:P3D
REFRESH-INTERVAL:P3D
CALSCALE:GREGORIAN
BEGIN:VEVENT
DTSTART:20150206T160000Z
DTEND:20150206T170000Z
X-MICROSOFT-CDO-ALLDAYEVENT:FALSE
SUMMARY:Friday Coffee @ the Chamber
DESCRIPTION:Rana Bokhari\, Leader of the Manitoba Liberal Party will be here for questions and discussion.\n\n\n\nStop by the Chamber office every Friday for Coffee sponsored by Tim Hortons. Great coffee\, great snacks\, and great conversation.
X-ALT-DESC;FMTTYPE=text/html:<span>Rana Bokhari\, Leader of the Manitoba Liberal Party </span>will be here for questions and discussion.<br />\n<br />\nStop by the Chamber office every Friday&nbsp\;for&nbsp\;Coffee sponsored by <a href="http://brandonchamberofcommerce.chambermaster.com/list/member/tim-hortons-271">Tim Hortons</a>. Great coffee\, great snacks\, and&nbsp\;great conversation.
LOCATION:Chamber Office 1043 Rosser Ave
UID:e.1595.211
SEQUENCE:3
DTSTAMP:20260420T194910Z
URL:https://dev.brandonchamber.ca/events/details/friday-coffee-the-chamber-02-06-2015-211
END:VEVENT

END:VCALENDAR
