BEGIN:VCALENDAR
VERSION:2.0
PRODID:-//ChamberMaster//Event Calendar 2.0//EN
METHOD:PUBLISH
X-PUBLISHED-TTL:P3D
REFRESH-INTERVAL:P3D
CALSCALE:GREGORIAN
BEGIN:VEVENT
DTSTART:20160512T120000Z
DTEND:20160512T140000Z
X-MICROSOFT-CDO-ALLDAYEVENT:FALSE
SUMMARY:FORT MCMURRAY FUNDRAISING PANCAKE BREAKFAST
DESCRIPTION:The Victoria Inn is hosting a PANCAKE BREAKFAST on Thursday\, May 12th from 7am-9am in the Grand Salon.  ALL PROCEEDS will be going to Fort McMurray disaster relief. \n\n\n\nEveryone is welcome.  Come have breakfast and as a community we can make a difference in someone's life.
X-ALT-DESC;FMTTYPE=text/html:The Victoria Inn is hosting a PANCAKE BREAKFAST on Thursday\, May 12th from 7am-9am in the Grand Salon.&nbsp\; ALL PROCEEDS will be going to Fort McMurray disaster relief.&nbsp\;<br />\n<br />\nEveryone is welcome.&nbsp\; Come have breakfast and as a community we can make a difference in someone&#39\;s life.&nbsp\;<br />\n&nbsp\;
LOCATION:Victoria Inn Grand Salon
UID:e.1595.440
SEQUENCE:3
DTSTAMP:20260419T144232Z
URL:https://dev.brandonchamber.ca/events/details/fort-mcmurray-fundraising-pancake-breakfast-05-12-2016-440
END:VEVENT

END:VCALENDAR
