BEGIN:VCALENDAR
VERSION:2.0
PRODID:-//ChamberMaster//Event Calendar 2.0//EN
METHOD:PUBLISH
X-PUBLISHED-TTL:P3D
REFRESH-INTERVAL:P3D
CALSCALE:GREGORIAN
BEGIN:VEVENT
DTSTART:20141020T140000Z
DTEND:20141020T163000Z
X-MICROSOFT-CDO-ALLDAYEVENT:FALSE
SUMMARY:FeedBack - The Other 'F' Word
DESCRIPTION:Feedback is a method of communication that can be used as a tool for employee and team growth. Like any methodology - HOW you apply it\; is as important as IF you apply it. Feedback is a skill that can be learned\, but just like cartwheels you have to practice to improve. Feedback shouldn't be a dirty word - join us on October 20th to find out why and how using it might just be the best thing for you\, your team\, your organization and your bottom line.\n\n\n\nBrought to you by the Brandon Chamber of Commerce\, Economic Development Brandon\, and Entrepreneurship Manitoba.\n\n\n\nPresented by Tanya laBuick\, High Performance Team Builder from LaBuick Consulting
X-ALT-DESC;FMTTYPE=text/html:<span style="font-family:arial\;"><span style="font-size: 14px\;">Feedback is a method of communication that can be used as a tool for employee and team growth. Like any methodology - <strong>HOW </strong>you apply it\; is as important as <strong>IF </strong>you apply it. Feedback is a skill that can be learned\, but just like cartwheels you have to practice to improve. Feedback shouldn&#39\;t be a dirty word - join us on October 20th to find out why and how using it might just be the best thing for you\, your team\, your organization and your bottom line.<br />\n<br />\nBrought to you by the Brandon Chamber of Commerce\, Economic Development Brandon\, and Entrepreneurship Manitoba.<br />\n<br />\nPresented by Tanya laBuick\, High Performance Team Builder from LaBuick Consulting</span></span>
LOCATION:Royal Oak Inn & Suites
UID:e.1595.158
SEQUENCE:3
DTSTAMP:20260421T001602Z
URL:https://dev.brandonchamber.ca/events/details/feedback-the-other-f-word-10-20-2014-158
END:VEVENT

END:VCALENDAR
