BEGIN:VCALENDAR
VERSION:2.0
PRODID:-//ChamberMaster//Event Calendar 2.0//EN
METHOD:PUBLISH
X-PUBLISHED-TTL:P3D
REFRESH-INTERVAL:P3D
CALSCALE:GREGORIAN
BEGIN:VEVENT
DTSTART:20130207T173000Z
DTEND:20130207T190000Z
X-MICROSOFT-CDO-ALLDAYEVENT:FALSE
SUMMARY:Federal Issues Luncheon
DESCRIPTION:Federal Issues Luncheon with the Honourable Gerry Ritz\, Minister of Agriculture
X-ALT-DESC;FMTTYPE=text/html:Federal Issues Luncheon with the Honourable Gerry Ritz\, Minister of Agriculture
LOCATION:Victoria Inn - Imperial Ball Room
UID:e.1595.10
SEQUENCE:3
DTSTAMP:20260422T035013Z
URL:https://dev.brandonchamber.ca/events/details/federal-issues-luncheon-02-07-2013-10
END:VEVENT

END:VCALENDAR
