BEGIN:VCALENDAR
VERSION:2.0
PRODID:-//ChamberMaster//Event Calendar 2.0//EN
METHOD:PUBLISH
X-PUBLISHED-TTL:P3D
REFRESH-INTERVAL:P3D
CALSCALE:GREGORIAN
BEGIN:VEVENT
DTSTART:20130522T133000Z
DTEND:20130522T213000Z
X-MICROSOFT-CDO-ALLDAYEVENT:FALSE
SUMMARY:Facebook 2.0: A Deeper Look into How Facebook Can Make You Money
DESCRIPTION:Have a Facebook Business Fanpage but not Converting it into Sales and Profits for your Business?\n\n\n\nJoin us for a Full Day Workshop to Turn Your Facebook Fanpage into a Sales Machine for Your Local Business\n\n\n\nFacebook 2.0: A Deeper Look Into How Facebook Can Make You Money\n\n\n\n\n	Please note: A laptop or tablet with a keypad is required\n\n	\n\n	This workshop is Part 2 in our Facebook Training.  It is not theory\; it is a proven "system"  to bring local clients into your business with money to spend in hand.  We are actually going to build your own personal "new customer getting machine" on this day and you will leave with a social media machine that brings you new clients that you can trace right back to Facebook!\n\n	\n\n	In this advanced workshop you will cover:         \n\n	          The scoop about apps - why you need them\, and why they're not as complicated as you think!\n\n	          Critical Contest tips - because you want to get all your Fans involved\n\n	          Custom Tab Application tips - Every Facebook fanpage needs these plan!\n\n	          How contests can easily increase your "likes" - and the number one thing you must do before hosting one.\n\n	          How to use Facebook's own PPC network - If you've shied away from PPC before you won't want to miss this - it's easy and affordable!\n\n	 If you have any questions about the event or how this workshop will best fit your business needs please contact Chris personally at Chris@freedommarketingcoach.com
X-ALT-DESC;FMTTYPE=text/html:Have a Facebook Business Fanpage but not Converting it into Sales and Profits for your Business?<br />\n<br />\nJoin us for a Full Day Workshop to Turn Your Facebook Fanpage into a Sales Machine for Your Local Business<br />\n<br />\nFacebook 2.0: A Deeper Look Into How Facebook Can Make You Money<br />\n<br />\n<p class="MsoNormal" style="margin: 0in 0in 0pt\;">\n	<i><u><span lang="EN-CA" style="font-family: &quot\;Cambria&quot\;\,&quot\;serif&quot\;\; font-size: 14pt\; mso-ansi-language: EN-CA\;"><font color="#000000">Please note: A laptop or tablet with a keypad is required<o:p></o:p></font></span></u></i></p>\n<p class="MsoNormal" style="margin: 0in 0in 0pt\;">\n	<br />\n	<span style="font-size: 14px\;"><span style="font-family: arial\;"><em><b><span lang="EN-CA" style="color: black\; font-style: normal\; mso-ansi-language: EN-CA\;">This workshop is Part 2</span></b></em><em><span lang="EN-CA" style="color: black\; font-style: normal\; mso-ansi-language: EN-CA\;"> in our Facebook Training</span></em><em><span lang="EN-CA" style="color: rgb(23\, 54\, 93)\; font-style: normal\; mso-ansi-language: EN-CA\;">.&nbsp\; I</span></em><em><span lang="EN-CA" style="color: black\; font-style: normal\; mso-ansi-language: EN-CA\;">t is not theory</span></em><em><span lang="EN-CA" style="color: rgb(23\, 54\, 93)\; font-style: normal\; mso-ansi-language: EN-CA\;">\;</span></em><em><span lang="EN-CA" style="color: black\; font-style: normal\; mso-ansi-language: EN-CA\;"> it is a proven &quot\;system&quot\;&nbsp\; to bring local clients into your business with money to spend in hand. </span></em><em><span lang="EN-CA" style="color: rgb(23\, 54\, 93)\; font-style: normal\; mso-ansi-language: EN-CA\;">&nbsp\;</span></em><em><span lang="EN-CA" style="color: black\; font-style: normal\; mso-ansi-language: EN-CA\;">We are actually going to build your own personal &quot\;new customer getting machine&quot\; on this day and you will leave with a social media machine that brings you new clients that you can trace right back to Facebook!</span></em></span></span><br />\n	<br />\n	<span style="font-size: 14px\;"><span style="font-family: arial\;"><b><span lang="EN-CA" style="color: windowtext\; mso-ansi-language: EN-CA\;">In this advanced</span></b><span lang="EN-CA" style="color: windowtext\; mso-ansi-language: EN-CA\;"> workshop you will cover:&nbsp\;</span><span lang="EN-CA" style="color: windowtext\; mso-fareast-font-family: Symbol\; mso-ansi-language: EN-CA\; mso-bidi-font-family: Symbol\; mso-bidi-font-size: 14.0pt\;"><span style="mso-list: Ignore\;"><span style="line-height: normal\; font-style: normal\; font-variant: normal\; font-weight: normal\; font-size-adjust: none\; font-stretch: normal\;">&nbsp\;&nbsp\;&nbsp\;&nbsp\;&nbsp\;&nbsp\;&nbsp\;</span></span></span></span></span><span lang="EN-CA" style="color: windowtext\; font-family: &quot\;Cambria&quot\;\,&quot\;serif&quot\;\; font-size: 14pt\; mso-ansi-language: EN-CA\;"><o:p><span style="font-size: 14px\;"><span style="font-family: arial\;">&nbsp\;</span></span></o:p></span></p>\n<p class="MsoListParagraph" style="background: white\; margin: 0in 0in 0pt 0.5in\; line-height: 19.2pt\; text-indent: -0.25in\; vertical-align: top\; mso-list: l0 level1 lfo1\; mso-margin-top-alt: auto\; mso-margin-bottom-alt: auto\; tab-stops: list .5in\;">\n	<span style="font-size: 14px\;"><span style="font-family: arial\;"><span lang="EN-CA" style="color: windowtext\; mso-fareast-font-family: Symbol\; mso-ansi-language: EN-CA\; mso-bidi-font-family: Symbol\; mso-bidi-font-size: 14.0pt\;"><span style="mso-list: Ignore\;">&middot\;<span style="line-height: normal\; font-style: normal\; font-variant: normal\; font-weight: normal\; font-size-adjust: none\; font-stretch: normal\;">&nbsp\;&nbsp\;&nbsp\;&nbsp\;&nbsp\;&nbsp\;&nbsp\;&nbsp\; </span></span></span><b><span lang="EN-CA" style="color: windowtext\; mso-ansi-language: EN-CA\;">The scoop about apps</span></b><span lang="EN-CA" style="color: windowtext\; mso-ansi-language: EN-CA\;">&nbsp\;- why you need them\, and why they&#39\;re not as complicated as you think!</span></span></span><span lang="EN-CA" style="color: windowtext\; font-family: &quot\;Cambria&quot\;\,&quot\;serif&quot\;\; font-size: 14pt\; mso-ansi-language: EN-CA\;"><o:p></o:p></span></p>\n<p class="MsoListParagraph" style="background: white\; margin: 0in 0in 0pt 0.5in\; line-height: 19.2pt\; text-indent: -0.25in\; vertical-align: top\; mso-list: l0 level1 lfo1\; mso-margin-top-alt: auto\; mso-margin-bottom-alt: auto\; tab-stops: list .5in\;">\n	<span style="font-size: 14px\;"><span style="font-family: arial\;"><span lang="EN-CA" style="color: windowtext\; mso-fareast-font-family: Symbol\; mso-ansi-language: EN-CA\; mso-bidi-font-family: Symbol\; mso-bidi-font-size: 14.0pt\;"><span style="mso-list: Ignore\;">&middot\;<span style="line-height: normal\; font-style: normal\; font-variant: normal\; font-weight: normal\; font-size-adjust: none\; font-stretch: normal\;">&nbsp\;&nbsp\;&nbsp\;&nbsp\;&nbsp\;&nbsp\;&nbsp\;&nbsp\; </span></span></span><b><span lang="EN-CA" style="color: windowtext\; mso-ansi-language: EN-CA\;">Critical Contest tips&nbsp\;</span></b><span lang="EN-CA" style="color: windowtext\; mso-ansi-language: EN-CA\;">- because you want to get all your Fans involved</span></span></span><span lang="EN-CA" style="color: windowtext\; font-family: &quot\;Cambria&quot\;\,&quot\;serif&quot\;\; font-size: 14pt\; mso-ansi-language: EN-CA\;"><o:p></o:p></span></p>\n<p class="MsoListParagraph" style="background: white\; margin: 0in 0in 0pt 0.5in\; line-height: 19.2pt\; text-indent: -0.25in\; vertical-align: top\; mso-list: l0 level1 lfo1\; mso-margin-top-alt: auto\; mso-margin-bottom-alt: auto\; tab-stops: list .5in\;">\n	<span style="font-size: 14px\;"><span style="font-family: arial\;"><span lang="EN-CA" style="color: windowtext\; mso-fareast-font-family: Symbol\; mso-ansi-language: EN-CA\; mso-bidi-font-family: Symbol\; mso-bidi-font-size: 14.0pt\;"><span style="mso-list: Ignore\;">&middot\;<span style="line-height: normal\; font-style: normal\; font-variant: normal\; font-weight: normal\; font-size-adjust: none\; font-stretch: normal\;">&nbsp\;&nbsp\;&nbsp\;&nbsp\;&nbsp\;&nbsp\;&nbsp\;&nbsp\; </span></span></span><b><span lang="EN-CA" style="color: windowtext\; mso-ansi-language: EN-CA\;">Custom Tab Application tips</span></b><span lang="EN-CA" style="color: windowtext\; mso-ansi-language: EN-CA\;"> - Every Facebook fanpage needs these plan!</span></span></span><span lang="EN-CA" style="color: windowtext\; font-family: &quot\;Cambria&quot\;\,&quot\;serif&quot\;\; font-size: 14pt\; mso-ansi-language: EN-CA\;"><o:p></o:p></span></p>\n<p class="MsoListParagraph" style="background: white\; margin: 0in 0in 0pt 0.5in\; line-height: 19.2pt\; text-indent: -0.25in\; vertical-align: top\; mso-list: l0 level1 lfo1\; mso-margin-top-alt: auto\; mso-margin-bottom-alt: auto\; tab-stops: list .5in\;">\n	<span style="font-size: 14px\;"><span style="font-family: arial\;"><span lang="EN-CA" style="color: windowtext\; mso-fareast-font-family: Symbol\; mso-ansi-language: EN-CA\; mso-bidi-font-family: Symbol\; mso-bidi-font-size: 14.0pt\;"><span style="mso-list: Ignore\;">&middot\;<span style="line-height: normal\; font-style: normal\; font-variant: normal\; font-weight: normal\; font-size-adjust: none\; font-stretch: normal\;">&nbsp\;&nbsp\;&nbsp\;&nbsp\;&nbsp\;&nbsp\;&nbsp\;&nbsp\; </span></span></span><b><span lang="EN-CA" style="color: windowtext\; mso-ansi-language: EN-CA\;">How contests can easily increase your &quot\;likes&quot\;</span></b><span lang="EN-CA" style="color: windowtext\; mso-ansi-language: EN-CA\;">&nbsp\;- and the number one thing you must do before hosting one.</span></span></span><span lang="EN-CA" style="color: windowtext\; font-family: &quot\;Cambria&quot\;\,&quot\;serif&quot\;\; font-size: 14pt\; mso-ansi-language: EN-CA\;"><o:p></o:p></span></p>\n<p class="MsoListParagraph" style="background: white\; margin: 0in 0in 0pt 0.5in\; line-height: 19.2pt\; text-indent: -0.25in\; vertical-align: top\; mso-list: l0 level1 lfo1\; mso-margin-top-alt: auto\; mso-margin-bottom-alt: auto\; tab-stops: list .5in\;">\n	<span style="font-size: 14px\;"><span style="font-family: arial\;"><span lang="EN-CA" style="color: windowtext\; mso-fareast-font-family: Symbol\; mso-ansi-language: EN-CA\; mso-bidi-font-family: Symbol\; mso-bidi-font-size: 14.0pt\;"><span style="mso-list: Ignore\;">&middot\;<span style="line-height: normal\; font-style: normal\; font-variant: normal\; font-weight: normal\; font-size-adjust: none\; font-stretch: normal\;">&nbsp\;&nbsp\;&nbsp\;&nbsp\;&nbsp\;&nbsp\;&nbsp\;&nbsp\; </span></span></span><b><span lang="EN-CA" style="color: windowtext\; mso-ansi-language: EN-CA\;">How to use Facebook&#39\;s own PPC network&nbsp\;</span></b><span lang="EN-CA" style="color: windowtext\; mso-ansi-language: EN-CA\;">- If you&#39\;ve shied away from PPC before you won&#39\;t want to miss this - it&#39\;s easy and affordable!</span></span></span><span lang="EN-CA" style="color: windowtext\; font-family: &quot\;Cambria&quot\;\,&quot\;serif&quot\;\; font-size: 14pt\; mso-ansi-language: EN-CA\;"><o:p></o:p></span></p>\n<p style="background: white\; vertical-align: top\;">\n	<span style="font-size: 14px\;"><span style="font-family: arial\;"><span lang="EN-CA" style="mso-ansi-language: EN-CA\;"><o:p><font color="#000000">&nbsp\;</font></o:p></span></span></span><span style="font-size: 12px\;"><span style="font-family: arial\;"><span lang="EN-CA" style="mso-ansi-language: EN-CA\;"><o:p></o:p></span></span></span><span style="font-size: 14px\;"><span style="font-family: arial\;"><span lang="EN-CA" style="mso-ansi-language: EN-CA\;"><font color="#000000">If you have any questions about the event or how this workshop will best fit your business needs please contact Chris personally at </font><a href="mailto:Chris@freedommarketingcoach.com"><a href="mailto:Chris@freedommarketingcoach.com"><font color="#3333cc">Chris@freedommarketingcoach.com</font></a></a><font color="#000000"> &nbsp\;</font></span></span></span></p>\n<p style="background: white\; vertical-align: top\;">\n	&nbsp\;</p>\n<p style="background: white\; vertical-align: top\;">\n	<span lang="EN-CA" style="color: black\; font-family: &quot\;Helvetica&quot\;\,&quot\;sans-serif&quot\;\; font-size: 10pt\; mso-ansi-language: EN-CA\;"><o:p></o:p></span></p>\n
LOCATION:Brandon Chamber of Commerce Board Room 1043 Rosser Ave.
UID:e.1595.24
SEQUENCE:3
DTSTAMP:20260421T233743Z
URL:https://dev.brandonchamber.ca/events/details/facebook-2-0-a-deeper-look-into-how-facebook-can-make-you-money-05-22-2013-24
END:VEVENT

END:VCALENDAR
