BEGIN:VCALENDAR
VERSION:2.0
PRODID:-//ChamberMaster//Event Calendar 2.0//EN
METHOD:PUBLISH
X-PUBLISHED-TTL:P3D
REFRESH-INTERVAL:P3D
CALSCALE:GREGORIAN
BEGIN:VEVENT
DTSTART:20130423T133000Z
DTEND:20130423T213000Z
X-MICROSOFT-CDO-ALLDAYEVENT:FALSE
SUMMARY:Facebook 1.0: A More Extensive Look at Facebook
DESCRIPTION:Please Note: Laptop or tablet with keypad is required\n\n \n\nThis workshop is not theory\, not some fancy ideas that get you charged up and then scratching your head wondering what to do when it is over. We are actually going to build it all together on this day and you will leave with a Facebook fanpage for your business plus a week worth of engaging posts to reach your audience and have them interact with you!\n\n \n\nIn this workshop you will cover: \n\n \n\n	The pros and cons of using Facebook - including pitfalls to watch out for.\n	A 5-step plan for success - Every Facebook campaign should begin with a good plan!\n	Tips for engaging your customers - so you don't feel like you're facing an empty auditorium.\n	Details that must not be overlooked - in both your personal and business profiles.\n	Critical SEO tips - because even Facebook relies on Google for traffic!\n	How to get more "likes" - including the number one reason people click that button!\n	How to position your business page for maximum exposure - this relatively new Facebook feature can mean all the difference for a local business.\n	Ideas for creating a page customers will WANT to like - do just one of these things and you'll see an increase in engagement almost immediately.\n	3 proven ideas you can use in your own videos to attract and engage more customers.\n	The number one mistake page owners make - doing this will not only cost you customers\, it may damage your reputation.\n	How to use analytics to improve your Facebook marketing strategy - do this one thing well and you will never again wonder if Facebook was worth your time.\n\n \n\nChris Fougere owns and operates Freedom Marketing Coach\, a successful Sales & Marketing  firm www.freedommarketingcoach.com in Winnipeg Manitoba as well as a thriving restaurant in the Winnipeg area.  Since 2009\, Chris has helped several small and medium-sized businesses create marketing systems for developing a predictable flow of new and repeat business.
X-ALT-DESC;FMTTYPE=text/html:<em><u><span style="font-size: 14pt\;"><span style="font-family: calibri\,sans-serif\;"><span style="color: black\;">Please Note: Laptop or tablet with keypad is required</span></span></span></u></em><br />\n&nbsp\;<br />\n<strong><span style="font-size: 14pt\;"><span style="font-family: calibri\,sans-serif\;"><span style="color: black\;">This workshop</span></span></span></strong><span style="font-size: 14pt\;"><span style="font-family: calibri\,sans-serif\;"><span style="color: black\;"> is not theory\, not some fancy ideas that get you charged up and then scratching your head wondering what to do when it is over. We are actually going to build it all together on this day and you will leave with a Facebook fanpage for your business plus a week worth of engaging posts to reach your audience and have them interact with you!</span></span></span><br />\n&nbsp\;<br />\n<span style="font-size: 14pt\;"><span style="font-family: calibri\,sans-serif\;"><span style="color: black\;">In this workshop you will cover: </span></span></span><br />\n&nbsp\;\n<ul>\n	<li style="background: white\; vertical-align: top\;"><span style="font-size: 14pt\;"><span style="font-family: calibri\,sans-serif\;">The&nbsp\;<strong>pros and cons of using Facebook&nbsp\;</strong>- including pitfalls to watch out for.</span></span></li>\n	<li style="background: white\; vertical-align: top\;"><strong><span style="font-size: 14pt\;"><span style="font-family: calibri\,sans-serif\;">A 5-step plan for success</span></span></strong><span style="font-size: 14pt\;"><span style="font-family: calibri\,sans-serif\;">&nbsp\;- Every Facebook campaign should begin with a good plan!</span></span></li>\n	<li style="background: white\; vertical-align: top\;"><strong><span style="font-size: 14pt\;"><span style="font-family: calibri\,sans-serif\;">Tips for engaging your customers&nbsp\;</span></span></strong><span style="font-size: 14pt\;"><span style="font-family: calibri\,sans-serif\;">- so you don&#39\;t feel like you&#39\;re facing an empty auditorium.</span></span></li>\n	<li style="background: white\; vertical-align: top\;"><strong><span style="font-size: 14pt\;"><span style="font-family: calibri\,sans-serif\;">Details that must not be overlooked</span></span></strong><span style="font-size: 14pt\;"><span style="font-family: calibri\,sans-serif\;">&nbsp\;- in both your personal and business profiles.</span></span></li>\n	<li style="background: white\; vertical-align: top\;"><strong><span style="font-size: 14pt\;"><span style="font-family: calibri\,sans-serif\;">Critical SEO tips&nbsp\;</span></span></strong><span style="font-size: 14pt\;"><span style="font-family: calibri\,sans-serif\;">- because even Facebook relies on Google for traffic!</span></span></li>\n	<li style="background: white\; vertical-align: top\;"><strong><span style="font-size: 14pt\;"><span style="font-family: calibri\,sans-serif\;">How to get more &quot\;likes&quot\;</span></span></strong><span style="font-size: 14pt\;"><span style="font-family: calibri\,sans-serif\;">&nbsp\;- including the number one reason people click that button!</span></span></li>\n	<li style="background: white\; vertical-align: top\;"><strong><span style="font-size: 14pt\;"><span style="font-family: calibri\,sans-serif\;">How to position your business page for maximum exposure -&nbsp\;</span></span></strong><span style="font-size: 14pt\;"><span style="font-family: calibri\,sans-serif\;">this relatively new Facebook feature can mean all the difference for a local business.</span></span></li>\n	<li style="background: white\; vertical-align: top\;"><strong><span style="font-size: 14pt\;"><span style="font-family: calibri\,sans-serif\;">Ideas for creating a page customers will WANT to like</span></span></strong><span style="font-size: 14pt\;"><span style="font-family: calibri\,sans-serif\;">&nbsp\;- do just one of these things and you&#39\;ll see an increase in engagement almost immediately.</span></span></li>\n	<li style="background: white\; vertical-align: top\;"><strong><span style="font-size: 14pt\;"><span style="font-family: calibri\,sans-serif\;">3 proven ideas you can use</span></span></strong><span style="font-size: 14pt\;"><span style="font-family: calibri\,sans-serif\;">&nbsp\;in your own videos to attract and engage more customers.</span></span></li>\n	<li style="background: white\; vertical-align: top\;"><strong><span style="font-size: 14pt\;"><span style="font-family: calibri\,sans-serif\;">The number one mistake page owners make -&nbsp\;</span></span></strong><span style="font-size: 14pt\;"><span style="font-family: calibri\,sans-serif\;">doing this will not only cost you customers\, it may damage your reputation.</span></span></li>\n	<li style="background: white\; vertical-align: top\;"><strong><span style="font-size: 14pt\;"><span style="font-family: calibri\,sans-serif\;">How to use analytics to improve your Facebook marketing strategy&nbsp\;</span></span></strong><span style="font-size: 14pt\;"><span style="font-family: calibri\,sans-serif\;">- do this one thing well and you will never again wonder if Facebook was worth your time.</span></span></li>\n</ul>\n&nbsp\;<br />\n<strong><span style="font-size: 14pt\;"><span style="font-family: calibri\,sans-serif\;">Chris Fougere</span></span></strong><span style="font-size: 14pt\;"><span style="font-family: calibri\,sans-serif\;"> owns and operates Freedom Marketing Coach\, a successful Sales &amp\; Marketing&nbsp\; firm<a href="http://r20.rs6.net/tn.jsp?llr=tbq5l6dab&amp\;et=1109051897487&amp\;s=6316&amp\;e=001mw6WftJF113ccVeDyND_T-BNV8GFrLUDWuwDXEiKDowirM4sgRTwarz5enOb2S8X8JlRAVdMkW9zHEA7Bh6Px__hDu-O04VsCGKqp2g6hg1H5EDqVy8m7Q==" target="_blank">&nbsp\;</a><a href="http://r20.rs6.net/tn.jsp?llr=tbq5l6dab&amp\;et=1109051897487&amp\;s=6316&amp\;e=001mw6WftJF113ccVeDyND_T-BNV8GFrLUDWuwDXEiKDowirM4sgRTwarz5enOb2S8X8JlRAVdMkW9zHEA7Bh6Px__hDu-O04VsCGKqp2g6hg1H5EDqVy8m7Q==" target="_blank"><span style="text-decoration: none\; text-underline: none\;"><span style="color: windowtext\;">www.freedommarketingcoach.com</span></span></a>&nbsp\;in Winnipeg Manitoba as well as a thriving restaurant in the Winnipeg area.&nbsp\; Since 2009\, Chris has helped several small and medium-sized businesses create marketing systems for developing a predictable flow of new and repeat business.</span></span>
LOCATION:Royal Oak Inn & Suites\, 3130 Victoria Ave.
UID:e.1595.23
SEQUENCE:3
DTSTAMP:20260422T035120Z
URL:https://dev.brandonchamber.ca/events/details/facebook-1-0-a-more-extensive-look-at-facebook-04-23-2013-23
END:VEVENT

END:VCALENDAR
