BEGIN:VCALENDAR
VERSION:2.0
PRODID:-//ChamberMaster//Event Calendar 2.0//EN
METHOD:PUBLISH
X-PUBLISHED-TTL:P3D
REFRESH-INTERVAL:P3D
CALSCALE:GREGORIAN
BEGIN:VEVENT
DTSTART:20141124T153000Z
DTEND:20141124T180000Z
X-MICROSOFT-CDO-ALLDAYEVENT:FALSE
SUMMARY:Employment Standards Seminar - Nov 24\, 2014
DESCRIPTION:Do you have questions about paying your employees? Want to learn more about employment laws? Employment Standards is providing a free seminar to employers on:\n\n	Overtime wages\n	General holidays\n	Vacation time and pay\n	Protected leaves\n	Ending employment\n	Chile employment\n	Agriculture industry\n\nNote: the content of this seminar does not apply to work in Heavy and Industrial Construction to rules relating to Temporary Foreign Workers.
X-ALT-DESC;FMTTYPE=text/html:Do you have questions about paying your employees? Want to learn more about employment laws? Employment Standards is providing a free seminar to employers on:\n<ul>\n	<li>Overtime wages</li>\n	<li>General holidays</li>\n	<li>Vacation time and pay</li>\n	<li>Protected leaves</li>\n	<li>Ending employment</li>\n	<li>Chile employment</li>\n	<li>Agriculture industry</li>\n</ul>\n<strong>Note</strong>: the content of this seminar does not apply to work in Heavy and Industrial Construction to rules relating to Temporary Foreign Workers.<br />\n&nbsp\;
LOCATION:1129 Queens Avenue The Ag Centre Auditorium A
UID:e.1595.174
SEQUENCE:3
DTSTAMP:20260421T014018Z
URL:https://dev.brandonchamber.ca/events/details/employment-standards-seminar-nov-24-2014-11-24-2014-174
END:VEVENT

END:VCALENDAR
