BEGIN:VCALENDAR
VERSION:2.0
PRODID:-//ChamberMaster//Event Calendar 2.0//EN
METHOD:PUBLISH
X-PUBLISHED-TTL:P3D
REFRESH-INTERVAL:P3D
CALSCALE:GREGORIAN
BEGIN:VEVENT
DTSTART:20131119T150000Z
DTEND:20131119T210000Z
X-MICROSOFT-CDO-ALLDAYEVENT:FALSE
SUMMARY:Email Marketing 1.0 - Chris Fougere
DESCRIPTION:The Surprising Truth about How Five Secret Emails Can Help Your Business Crush Your Competition\n\n\n\nThis workshop is not theory\, not some fancy ideas that get you charged up and then scratching your head wondering what to do when it is over. We are actually going to build it all together on this day and you will leave with a working email account for your business plus editable templates of ALL 5 secret emails!\n\n \n\nWe have limited time and will be moving quickly: if you have no advertising skills\, no programing ability but having a burning desire to grow your sales and profits using this huge untapped tool then this is for you!\n\nHere is our promise\, if you are not happy with the workshop by noon you can leave with a Full Refund! You can't lose!\n\n \n\nIf you Can......\n\nBring Your Laptop and Your Thinking Cap and an Open Mind....\n\nYou will leave with a:\n\n\n	A working can-spam compliant email account.\n	Templates of all the secret emails totally customizable to your business.\n	A FREE cloud based unlimited email and autoresponder account up to 250 contacts.\n\n\n\nWe'll  Cover All The Following in this Full Day Workshop...\n\n \n\n\n	\n	The pros and cons of using Email - including pitfalls to watch out for.\n\n	 \n	\n	\n	A 5-step plan for success - Every email campaign should begin with a good plan!\n\n	 \n	\n	\n	Tips for engaging your customers - so you don't feel like you're facing an empty auditorium.\n\n	 \n	\n	\n	Details that must not be overlooked - in both your personal and business emails.\n\n	 \n	\n	\n	Critical Engagement tips - because email battles for your prospects and clients attention just like everything else.\n	\n\n\n\nOnce we've covered the basics of setting up your email account and getting some dashboard experience\, we'll move on to more complex topics\, like...\n\n\n\n	How to Get More "Opens" - including the number one reason people open emails!\n	How to Position Your Emails for Maximum Exposure - this relatively new technology can explode your email opens!\n	How to Get Your Website Visitors and Facebook Fans to Give You Their Email Addresses- it's easy and affordable in fact I will show you how to get paid while collecting email addresses to build your target audience\n	 \n	If You Have a Brick and Mortar Location I will Show You How to Get 90% of Your Prospects/Clients Email Addresses - this secret you can start tomorrow and costs less then $50 to implement.\n	We Will De-Bunk the Top 3 Email Misconceptions - get these myths debunked and move towards a huge ROI on this marketing treasure trove!\n	We Will Discuss the 6 Ways Your Business Will Benefit from Email Marketing -and what will happen to your business if you don't start this strategy now!\n	We Will Reveal and Give You all 5 Secret Emails That 98% of Businesses Don't Use - any one of these used properly has the chance to increase your sales by double digits. (These templates are written by us with all the battle tested tweeks to cut your learning curve to ZERO $997 value for FREE)\n	The Top 3 Mistakes Owners Make with Email Marketing -doing this will not only cost you customers\, it may damage your reputation.\n\n\n\n\n\n	How to Use Analytics to Improve Your Email Marketing Strategy - do this one thing well and you will never again wonder if Email marketing was worth your time.\n	All this and more at this hands on workshop!
X-ALT-DESC;FMTTYPE=text/html:<div style="color: gray\;">\n<p style="margin-top: 0pt\; margin-bottom: 0pt\; margin-left: 0in\; unicode-bidi: embed\; direction: ltr\;"><span style="font-size: 16px\;"><span style="color: rgb(0\, 0\, 0)\;"><span style="font-family: &quot\;Helvetica Neue&quot\;\; font-weight: bold\;">The Surprising&nbsp\;</span><span style="font-family: &quot\;Helvetica Neue&quot\;\; font-weight: bold\;">Truth about How Five Secret Emails Can Help Your Business Crush Your Competition</span></span><br />\n<br />\n<span style="color: rgb(128\, 128\, 128)\;"><span style="font-family: &quot\;Helvetica Neue&quot\;\; font-weight: bold\;"><span style="font-size: 12px\;"><span style="font-family: arial\;">This</span></span></span></span></span><span style="font-size: 12px\;"><span style="font-family: arial\;"><strong><em><span style="color: rgb(128\, 128\, 128)\;"> workshop </span>is not theory\, not some fancy ideas that get you charged up and then scratching your head wondering what to do when it is over. We are actually going to build it all together on this day and you will leave with a working email account for your business plus editable templates of ALL 5 secret emails!</em></strong></span></span></p>\n\n<p>&nbsp\;</p>\n\n<p><span style="font-size: 12px\;"><span style="font-family: arial\;"><strong>We have limited time and will be moving quickly:&nbsp\;</strong><strong style="font-size: small\;">if you have no advertising skills\, no programing ability but having a burning desire to grow your sales and profits using this huge untapped tool then this is for you!</strong></span></span></p>\n\n<p><strong style="font-size: small\;"><span style="font-size: small\;"><strong><em><span style="font-size: medium\;"><em>Here is our promise\, if you are not happy with the workshop by noon you can leave with a Full Refund! You can&#39\;t lose!</em></span></em></strong></span></strong></p>\n\n<p>&nbsp\;</p>\n\n<p><strong style="font-size: small\;">If you Can......</strong></p>\n\n<p><span style="font-size: small\;"><strong><em>Bring Your Laptop and Your Thinking Cap and an Open Mind....</em></strong></span></p>\n\n<p><span style="font-size: small\;"><strong><em>You will leave with a:</em></strong></span></p>\n\n<ol>\n	<li><strong style="font-size: small\;"><em>A working can-spam compliant email account.</em></strong></li>\n	<li><strong style="font-size: small\;"><em>Templates of all the secret emails totally customizable to your business.</em></strong></li>\n	<li><strong style="font-size: small\;"><em>A FREE cloud based unlimited email and autoresponder account up to 250 contacts.</em></strong></li>\n</ol>\n\n<div style="padding: 5px 15px\; color: rgb(42\, 41\, 63)\; font-family: &quot\;Times New Roman&quot\;\; font-size: medium\;">\n<h3 align="center" style="margin: 15px 0px 10px\; color: rgb(42\, 41\, 63)\; font-family: Tahoma\, Verdana\, Arial\, serif\; font-size: 18pt\;"><span style="font-size: 16px\;"><em>We&#39\;ll &nbsp\;Cover All The Following in this Full Day Workshop...</em></span><br />\n&nbsp\;</h3>\n\n<ul>\n	<li>\n	<h3 align="center" style="margin: 15px 0px 10px\; color: rgb(42\, 41\, 63)\; font-family: Tahoma\, Verdana\, Arial\, serif\; font-size: 18pt\;"><span style="font-size: 12px\;">The&nbsp\;pros and cons of using Email&nbsp\;- including pitfalls to watch out for.</span><br />\n	&nbsp\;</h3>\n	</li>\n	<li>\n	<h3 align="center" style="margin: 15px 0px 10px\; color: rgb(42\, 41\, 63)\; font-family: Tahoma\, Verdana\, Arial\, serif\; font-size: 18pt\;"><span style="font-size: 12px\;"><strong>A 5-step plan for success</strong>&nbsp\;- Every email campaign should begin with a good plan!</span><br />\n	&nbsp\;</h3>\n	</li>\n	<li>\n	<h3 align="center" style="margin: 15px 0px 10px\; color: rgb(42\, 41\, 63)\; font-family: Tahoma\, Verdana\, Arial\, serif\; font-size: 18pt\;"><span style="font-size: 12px\;"><strong>Tips for engaging your customers&nbsp\;</strong>- so you don&#39\;t feel like you&#39\;re facing an empty auditorium.</span><br />\n	&nbsp\;</h3>\n	</li>\n	<li>\n	<h3 align="center" style="margin: 15px 0px 10px\; color: rgb(42\, 41\, 63)\; font-family: Tahoma\, Verdana\, Arial\, serif\; font-size: 18pt\;"><span style="font-size: 12px\;"><strong>Details that must not be overlooked</strong>&nbsp\;- in both your personal and business emails.</span><br />\n	&nbsp\;</h3>\n	</li>\n	<li>\n	<h3 align="center" style="margin: 15px 0px 10px\; color: rgb(42\, 41\, 63)\; font-family: Tahoma\, Verdana\, Arial\, serif\; font-size: 18pt\;"><span style="font-size: 12px\;"><strong>Critical Engagement tips&nbsp\;</strong>- because email battles for your prospects and clients attention just like everything else.</span></h3>\n	</li>\n</ul>\n</div>\n\n<p style="color: rgb(42\, 41\, 63)\; font-family: &quot\;Times New Roman&quot\;\; font-size: medium\;"><span style="font-family: arial\;">Once we&#39\;ve covered the basics of setting up your email account and getting some dashboard experience\, we&#39\;ll move on to more complex topics\, like...</span></p>\n\n<div style="padding: 5px 15px\; color: rgb(42\, 41\, 63)\; font-family: &quot\;Times New Roman&quot\;\; font-size: medium\;">\n<ul style="list-style: none\; margin: 0px\; padding: 0px\;">\n	<li style="background-position: 0% 50%\; padding: 8px 8px 8px 32px\; color: rgb(51\, 51\, 51)\; font-family: arial\, sans-serif\; display: block\; background-image: url(&quot\;file:///C:/Users/fudedude/Desktop/sales%20letter/images/bullet2.png&quot\;)\; background-attachment: scroll\; background-repeat: no-repeat no-repeat\; background-color: transparent\;"><strong>How to Get More &quot\;Opens&quot\;</strong>&nbsp\;- including the number one reason people open emails!</li>\n	<li style="background-position: 0% 50%\; padding: 8px 8px 8px 32px\; color: rgb(51\, 51\, 51)\; font-family: arial\, sans-serif\; display: block\; background-image: url(&quot\;file:///C:/Users/fudedude/Desktop/sales%20letter/images/bullet2.png&quot\;)\; background-attachment: scroll\; background-repeat: no-repeat no-repeat\; background-color: transparent\;"><strong>How to Position Your Emails for Maximum Exposure -&nbsp\;</strong>this relatively new technology can explode your email opens!</li>\n	<li style="background-position: 0% 50%\; padding: 8px 8px 8px 32px\; color: rgb(51\, 51\, 51)\; font-family: arial\, sans-serif\; display: block\; background-image: url(&quot\;file:///C:/Users/fudedude/Desktop/sales%20letter/images/bullet2.png&quot\;)\; background-attachment: scroll\; background-repeat: no-repeat no-repeat\; background-color: transparent\;"><strong>How to Get Your Website Visitors and Facebook Fans to Give You Their Email Addresses</strong>- it&#39\;s easy and affordable in fact I will show you how to get paid while collecting email addresses to build your target audience</li>\n	<li style="background-position: 0% 50%\; padding: 8px 8px 8px 32px\; color: rgb(51\, 51\, 51)\; font-family: arial\, sans-serif\; display: block\; background-image: url(&quot\;file:///C:/Users/fudedude/Desktop/sales%20letter/images/bullet2.png&quot\;)\; background-attachment: scroll\; background-repeat: no-repeat no-repeat\; background-color: transparent\;">&nbsp\;</li>\n	<li style="background-position: 0% 50%\; padding: 8px 8px 8px 32px\; color: rgb(51\, 51\, 51)\; font-family: arial\, sans-serif\; display: block\; background-image: url(&quot\;file:///C:/Users/fudedude/Desktop/sales%20letter/images/bullet2.png&quot\;)\; background-attachment: scroll\; background-repeat: no-repeat no-repeat\; background-color: transparent\;"><strong>If You Have a Brick and Mortar Location I will Show You How to Get 90% of Your Prospects/Clients Email Addresses</strong>&nbsp\;- this secret you can start tomorrow and costs less then $50 to implement.</li>\n	<li style="background-position: 0% 50%\; padding: 8px 8px 8px 32px\; color: rgb(51\, 51\, 51)\; font-family: arial\, sans-serif\; display: block\; background-image: url(&quot\;file:///C:/Users/fudedude/Desktop/sales%20letter/images/bullet2.png&quot\;)\; background-attachment: scroll\; background-repeat: no-repeat no-repeat\; background-color: transparent\;"><strong style="background-color: transparent\;">We Will De-Bunk the Top 3 Email Misconceptions</strong><span style="background-color: transparent\;">&nbsp\;- get these myths debunked and move towards a huge ROI on this marketing treasure trove!</span></li>\n	<li style="background-position: 0% 50%\; padding: 8px 8px 8px 32px\; color: rgb(51\, 51\, 51)\; font-family: arial\, sans-serif\; display: block\; background-image: url(&quot\;file:///C:/Users/fudedude/Desktop/sales%20letter/images/bullet2.png&quot\;)\; background-attachment: scroll\; background-repeat: no-repeat no-repeat\; background-color: transparent\;"><strong style="background-color: transparent\;">We Will Discuss the 6 Ways Your Business Will Benefit from Email Marketing</strong><span style="background-color: transparent\;">&nbsp\;-and what will happen to your business if you don&#39\;t start this strategy now!</span></li>\n	<li style="background-position: 0% 50%\; padding: 8px 8px 8px 32px\; color: rgb(51\, 51\, 51)\; font-family: arial\, sans-serif\; display: block\; background-image: url(&quot\;file:///C:/Users/fudedude/Desktop/sales%20letter/images/bullet2.png&quot\;)\; background-attachment: scroll\; background-repeat: no-repeat no-repeat\; background-color: transparent\;"><strong>We Will Reveal and Give You all 5 Secret Emails That 98% of Businesses Don&#39\;t Use -</strong>&nbsp\;any one of these used properly has the chance to increase your sales by double digits. (These templates are written by us with all the battle tested tweeks to cut your learning curve to ZERO $997 value for FREE)</li>\n	<li style="background-position: 0% 50%\; padding: 8px 8px 8px 32px\; color: rgb(51\, 51\, 51)\; font-family: arial\, sans-serif\; display: block\; background-image: url(&quot\;file:///C:/Users/fudedude/Desktop/sales%20letter/images/bullet2.png&quot\;)\; background-attachment: scroll\; background-repeat: no-repeat no-repeat\; background-color: transparent\;"><strong style="background-color: transparent\;">The Top 3 Mistakes Owners Make with Email Marketing -</strong><span style="background-color: transparent\;">doing this will not only cost you customers\, it may damage your reputation.</span></li>\n</ul>\n</div>\n\n<div style="padding: 5px 15px\; color: rgb(42\, 41\, 63)\; font-family: &quot\;Times New Roman&quot\;\; font-size: medium\;">\n<ul style="list-style: none\; margin: 0px\; padding: 0px\;">\n	<li style="background-position: 0% 50%\; padding: 8px 8px 8px 32px\; color: rgb(51\, 51\, 51)\; font-family: arial\, sans-serif\; display: block\; background-image: url(&quot\;file:///C:/Users/fudedude/Desktop/sales%20letter/images/bullet2.png&quot\;)\; background-attachment: scroll\; background-repeat: no-repeat no-repeat\; background-color: transparent\;"><strong style="background-color: transparent\;">How to Use Analytics to Improve Your Email Marketing Strategy&nbsp\;</strong><span style="background-color: transparent\;">- do this one thing well and you will never again wonder if Email marketing was worth your time.</span></li>\n	<li style="background-position: 0% 50%\; padding: 8px 8px 8px 32px\; color: rgb(51\, 51\, 51)\; font-family: arial\, sans-serif\; display: block\; background-image: url(&quot\;file:///C:/Users/fudedude/Desktop/sales%20letter/images/bullet2.png&quot\;)\; background-attachment: scroll\; background-repeat: no-repeat no-repeat\; background-color: transparent\;"><span style="background-color: transparent\;">All this and more at this hands on workshop!</span></li>\n</ul>\n</div>\n</div>\n
LOCATION:Royal Oak Inn 3130 Victoria Ave
UID:e.1595.62
SEQUENCE:3
DTSTAMP:20260421T152555Z
URL:https://dev.brandonchamber.ca/events/details/email-marketing-1-0-chris-fougere-11-19-2013-62
END:VEVENT

END:VCALENDAR
