BEGIN:VCALENDAR
VERSION:2.0
PRODID:-//ChamberMaster//Event Calendar 2.0//EN
METHOD:PUBLISH
X-PUBLISHED-TTL:P3D
REFRESH-INTERVAL:P3D
CALSCALE:GREGORIAN
BEGIN:VEVENT
DTSTART:20151017T010000Z
DTEND:20151017T070000Z
X-MICROSOFT-CDO-ALLDAYEVENT:FALSE
SUMMARY:Dueling Pianos
DESCRIPTION:As a fundraising initiative\, Westman Dreams for Kids is presenting the first "Dueling Pianos & Casino Night". \n\nGames of chance along with the unique experience of the dueling pianos from the "Aussie Rules Piano Bar"\, raffle prizes and a 50/50 draw.  A grand prize of trip for two to Las Vegas\, max value $2000.00! \n\nAppetizers will be served as well as a late lunch.
X-ALT-DESC;FMTTYPE=text/html:As a fundraising initiative\, Westman Dreams for Kids is presenting the first &quot\;<strong>Dueling Pianos &amp\; Casino Night&quot\;.&nbsp\;</strong><br />\nGames of chance along with the unique experience of the dueling pianos from the &quot\;Aussie Rules Piano Bar&quot\;\, raffle prizes and a 50/50 draw.&nbsp\; A grand prize of trip for two to Las Vegas\, max value $2000.00!&nbsp\;<br />\nAppetizers will be served as well as a late lunch.<br />\n&nbsp\;
LOCATION:Victoria Inn\, Brandon
UID:e.1595.388
SEQUENCE:3
DTSTAMP:20260419T234235Z
URL:https://dev.brandonchamber.ca/events/details/dueling-pianos-10-16-2015-388
END:VEVENT

END:VCALENDAR
