BEGIN:VCALENDAR
VERSION:2.0
PRODID:-//ChamberMaster//Event Calendar 2.0//EN
METHOD:PUBLISH
X-PUBLISHED-TTL:P3D
REFRESH-INTERVAL:P3D
CALSCALE:GREGORIAN
BEGIN:VEVENT
DTSTART:20130131T150000Z
DTEND:20130131T223000Z
X-MICROSOFT-CDO-ALLDAYEVENT:FALSE
SUMMARY:Customer Service 101
DESCRIPTION:Hosted by the Brandon Chamber of Commerce\, sales expert\, Dan Debreuil will focus on defining customer service and introducing the most important elements of a customer service strategy.\n\n	\n\n	In this one day workshop you will learn the functions of customer service and be able to construct a specific customer service strategy for your business.  You will leave this workshop with a much clearer understanding of the customer service level you need to deliver to maintain customer satisfaction and earn loyalty with your clients.  As well as\, the key customer service metrics you need to identify and measure to ensure success.\n\n	\n\n	Only 20 spots available.  Lunch included. \n\n	The cost at attend the workshop is only $229. \n\n	Chamber members receive a $40 discount.  Contact Chamber at 204-571-5340 for Promo Number.\n\n	 \n\n	For more information or to register\, please see the following link: http://www.salesexpert.ca/sales-training-workshops/customer-service-workshop-brandon.php
X-ALT-DESC;FMTTYPE=text/html:<p class="MsoNormal">\n	Hosted by the Brandon Chamber of Commerce\, sales expert\, Dan Debreuil will focus on defining customer service and introducing the most important elements of a customer service strategy.<br />\n	<br />\n	In this one day workshop you will learn the functions of customer service and be able to construct a specific customer service strategy for your business. &nbsp\;You will leave this workshop with a much clearer understanding of the customer service level you need to deliver to maintain customer satisfaction and earn loyalty with your clients. &nbsp\;As well as\, the key customer service metrics you need to identify and measure to ensure success.<br />\n	<br />\n	<strong><span style="font-size: small\;"><span style="font-family: calibri\;"><span style="font-weight: bold\;"><span style="font-size: 11pt\;">Only 20 spots available.&nbsp\; </span></span></span></span></strong>Lunch included.&nbsp\;<br />\n	<span style="font-size: small\;"><span style="font-family: calibri\;"><span style="font-size: 11pt\;">The cost at attend the workshop is only $229. </span></span></span><br />\n	<span style="font-size: small\;"><span style="font-family: calibri\;"><span style="font-size: 11pt\;">Chamber members receive a $40 discount.&nbsp\; <strong><span style="font-weight: bold\;">Contact Chamber at 204-571-5340 for Promo Number.</span></strong></span></span></span><br />\n	&nbsp\;<br />\n	<span style="font-size: small\;"><span style="font-family: calibri\;"><span style="font-size: 11pt\;">For more information&nbsp\;or to register\, please see the following link: <a href="http://www.salesexpert.ca/sales-training-workshops/customer-service-workshop-brandon.php">http://www.salesexpert.ca/sales-training-workshops/customer-service-workshop-brandon.php</a></span></span></span></p>\n
LOCATION:Riverbank Discovery Centre\, 1-545 Conservation Road
UID:e.1595.16
SEQUENCE:3
DTSTAMP:20260422T051221Z
URL:https://dev.brandonchamber.ca/events/details/customer-service-101-01-31-2013-16
END:VEVENT

END:VCALENDAR
