BEGIN:VCALENDAR
VERSION:2.0
PRODID:-//ChamberMaster//Event Calendar 2.0//EN
METHOD:PUBLISH
X-PUBLISHED-TTL:P3D
REFRESH-INTERVAL:P3D
CALSCALE:GREGORIAN
BEGIN:VEVENT
DTSTART:20150508T160000Z
DTEND:20150508T200000Z
X-MICROSOFT-CDO-ALLDAYEVENT:FALSE
SUMMARY:Come meet the experts at Pinchin that can help you Manage your Natural & Built environment
DESCRIPTION:Your invited to Pinchin's 1st Meet & Greet at our Brandon Office.\n\nComplimentary burgers/hotdogs & beverages will be available.\n\nPinchin provides solution-focused consulting services to help clients manage their natural and built  environments.
X-ALT-DESC;FMTTYPE=text/html:<p><span style="font-size: 14px\;"><span style="font-family: arial\,helvetica\,sans-serif\;">Your invited to Pinchin&#39\;s 1st Meet &amp\; Greet at our Brandon Office.<br />\nComplimentary burgers/hotdogs &amp\;&nbsp\;beverages will be available.</span></span><br />\n<span style="font-size: 14pt\;"><span style="font-size: 14px\;"><span style="font-family: arial\,helvetica\,sans-serif\;">Pinchin provides solution-focused consulting services to help clients manage their natural and built&nbsp\; environments.</span></span><span style="color: rgb(31\, 73\, 125)\;"><span style="font-family: arial\,sans-serif\;">&nbsp\; </span></span></span><br />\n&nbsp\;</p>\n
LOCATION:1700 Pacific Avenue\, Unit F
UID:e.1595.288
SEQUENCE:3
DTSTAMP:20260420T065200Z
URL:https://dev.brandonchamber.ca/events/details/come-meet-the-experts-at-pinchin-that-can-help-you-manage-your-natural-built-environment-05-08-2015-288
END:VEVENT

END:VCALENDAR
