BEGIN:VCALENDAR
VERSION:2.0
PRODID:-//ChamberMaster//Event Calendar 2.0//EN
METHOD:PUBLISH
X-PUBLISHED-TTL:P3D
REFRESH-INTERVAL:P3D
CALSCALE:GREGORIAN
BEGIN:VEVENT
DTSTART:20130913T150000Z
DTEND:20130913T160000Z
X-MICROSOFT-CDO-ALLDAYEVENT:FALSE
SUMMARY:Coffee Break at the Chamber
DESCRIPTION:Stop by the Chamber office every Friday for Coffee Break sponsored by Tim Horton's. Great coffee\, great snacks\, and great conversation.
X-ALT-DESC;FMTTYPE=text/html:Stop by the Chamber office every Friday&nbsp\;for&nbsp\;Coffee Break&nbsp\;sponsored by Tim Horton&#39\;s. Great coffee\, great snacks\, and&nbsp\;great conversation.
LOCATION:Chamber Office 1043 Rosser Ave
UID:e.1595.44
SEQUENCE:3
DTSTAMP:20260421T181326Z
URL:https://dev.brandonchamber.ca/events/details/coffee-break-at-the-chamber-09-13-2013-44
END:VEVENT

END:VCALENDAR
