BEGIN:VCALENDAR
VERSION:2.0
PRODID:-//ChamberMaster//Event Calendar 2.0//EN
METHOD:PUBLISH
X-PUBLISHED-TTL:P3D
REFRESH-INTERVAL:P3D
CALSCALE:GREGORIAN
BEGIN:VEVENT
DTSTART:20150127T230000Z
DTEND:20150128T010000Z
X-MICROSOFT-CDO-ALLDAYEVENT:FALSE
SUMMARY:City of Brandon Zoning By-law Open House
DESCRIPTION:The City of Brandon Planning & Building Safety Department is hosting an open house on the new look Zoning By-law\; the Zoning By-law impacts all land use decisions in the City. The open house is an informal come and go event (no need to reserve)\, where the public and Chamber members can have their say on this important document impacting future development in our city. Staff will also be on hand to answer any questions and listen to any suggestions you may have.\n\n\n\nRead the public notice here
X-ALT-DESC;FMTTYPE=text/html:<p>The City of Brandon Planning &amp\; Building Safety Department is hosting an open house on the new look Zoning By-law\; the Zoning By-law impacts all land use decisions in the City. The open house is an informal come and go event (no need to reserve)\, where the public and Chamber members&nbsp\;can have their say on this important document impacting future development in our city. Staff will also be on hand to answer any questions and listen to any suggestions you may have.<br />\n<br />\nRead the public notice <a href="http://brandon.ca/public-notices/1492-public-feedback-welcomed-on-zoning-bylaw-update">here</a></p>\n
LOCATION:638 Princess Avenue\, Brandon Design Studio - Please use the entrance off of 6th Street\, a sign will mark the entrance
UID:e.1595.231
SEQUENCE:3
DTSTAMP:20260422T113632Z
URL:https://dev.brandonchamber.ca/events/details/city-of-brandon-zoning-by-law-open-house-01-27-2015-231
END:VEVENT

END:VCALENDAR
