BEGIN:VCALENDAR
VERSION:2.0
PRODID:-//ChamberMaster//Event Calendar 2.0//EN
METHOD:PUBLISH
X-PUBLISHED-TTL:P3D
REFRESH-INTERVAL:P3D
CALSCALE:GREGORIAN
BEGIN:VEVENT
DTSTART;VALUE=DATE:20141210
DTEND;VALUE=DATE:20141211
TRANSP:TRANSPARENT
X-MICROSOFT-CDO-ALLDAYEVENT:TRUE
SUMMARY:Christmas Open House Hosted by Reg Helwer
DESCRIPTION:Join MLA for Brandon West\, Reg Helwer as the Constituency Office hosts a Christmas Open House.\n\n\n\nDrop in for Coffee and a chat with Reg
X-ALT-DESC;FMTTYPE=text/html:Join MLA for Brandon West\, Reg Helwer as the Constituency Office hosts a Christmas Open House.<br />\n<br />\nDrop in for Coffee and a chat with Reg
LOCATION:20-18th Street Brandon R7A 5A3
UID:e.1595.201
SEQUENCE:3
DTSTAMP:20260421T001559Z
URL:https://dev.brandonchamber.ca/events/details/christmas-open-house-hosted-by-reg-helwer-12-10-2014-201
END:VEVENT

END:VCALENDAR
