BEGIN:VCALENDAR
VERSION:2.0
PRODID:-//ChamberMaster//Event Calendar 2.0//EN
METHOD:PUBLISH
X-PUBLISHED-TTL:P3D
REFRESH-INTERVAL:P3D
CALSCALE:GREGORIAN
BEGIN:VEVENT
DTSTART:20121206T173000Z
DTEND:20121206T190000Z
X-MICROSOFT-CDO-ALLDAYEVENT:FALSE
SUMMARY:Christmas Luncheon
DESCRIPTION:Celebrate the season with the Brandon Chamber of Commerce\, friends and colleagues at our annual Christmas Luncheon.\n\n\n\n50/50 draw will benefit a local charity.\n\n\n\nSponsored by: Keywest Photo Image by Design Inc.
X-ALT-DESC;FMTTYPE=text/html:Celebrate the season with the Brandon Chamber of Commerce\, friends and colleagues at our annual Christmas Luncheon.<br />\n<br />\n50/50 draw will benefit a local charity.<br />\n<br />\n<strong>Sponsored by: Keywest Photo Image by Design Inc.</strong>
LOCATION:Victoria Inn Imperial Ball Room
UID:e.1595.4
SEQUENCE:3
DTSTAMP:20260422T062821Z
URL:https://dev.brandonchamber.ca/events/details/christmas-luncheon-12-06-2012-4
END:VEVENT

END:VCALENDAR
