BEGIN:VCALENDAR
VERSION:2.0
PRODID:-//ChamberMaster//Event Calendar 2.0//EN
METHOD:PUBLISH
X-PUBLISHED-TTL:P3D
REFRESH-INTERVAL:P3D
CALSCALE:GREGORIAN
BEGIN:VEVENT
DTSTART:20160113T160000Z
DTEND:20160113T203000Z
X-MICROSOFT-CDO-ALLDAYEVENT:FALSE
SUMMARY:China: Explore Opportunities for Exporters
DESCRIPTION:Update:\n\nA new date has been set for this event.\n\n\n\nManitoba Trade and Investment\, Entrepreneurship Manitoba and the Brandon Chamber of Commerce invite you to attend:\n\nChina: Explore Opportunities for Exporters\n\nChina\, with a population of 1.3 billion people\, recently became the second largest economy in the world. China is Manitoba's 2nd largest export market after the United States. China offers a wide variety of opportunities for Manitoba firms.\n\n\n\nParticipate in this event to:\n\n- Learn more about this vibrant market from Manitoba Trade and Investment's   Foreign Trade Representative located in Beijing\, China\n\n- Learn about the free programs/services offered by Manitoba Trade and Investment\n\n- Meet Manitoba Trade and Investment's staff working on China\n\n- Hear from a Manitoba company already doing business with China
X-ALT-DESC;FMTTYPE=text/html:<span style="color: rgb(128\, 0\, 0)\;"><span style="font-size: 16px\;"><em><strong>Update:</strong></em></span></span><br />\nA new date has been set for this event.<br />\n<br />\nManitoba Trade and Investment\, Entrepreneurship Manitoba and the Brandon Chamber of Commerce invite you to attend:<br />\n<span style="font-size: 14px\;"><u><strong>China: Explore Opportunities for Exporters</strong></u></span><br />\nChina\, with a population of 1.3 billion people\, recently became the second largest economy in the world. China is Manitoba&#39\;s 2nd largest export market after the United States. China offers a wide variety of opportunities for Manitoba firms.<br />\n<br />\n<u>Participate in this event to:</u><br />\n<strong>-</strong> Learn more about this vibrant market from Manitoba Trade and Investment&#39\;s&nbsp\;&nbsp\; Foreign Trade Representative located in Beijing\, China<br />\n<strong>-</strong> Learn about the free programs/services offered by Manitoba Trade and Investment<br />\n<strong>-</strong> Meet Manitoba Trade and Investment&#39\;s staff working on China<br />\n<strong>-</strong> Hear from a Manitoba company already doing business with China
LOCATION:Victoria Inn - Salons 2&3 3550 Victoria Ave Brandon\, MB
UID:e.1595.400
SEQUENCE:3
DTSTAMP:20260419T194034Z
URL:https://dev.brandonchamber.ca/events/details/china-explore-opportunities-for-exporters-01-13-2016-400
END:VEVENT

END:VCALENDAR
