BEGIN:VCALENDAR
VERSION:2.0
PRODID:-//ChamberMaster//Event Calendar 2.0//EN
METHOD:PUBLISH
X-PUBLISHED-TTL:P3D
REFRESH-INTERVAL:P3D
CALSCALE:GREGORIAN
BEGIN:VEVENT
DTSTART:20141023T180000Z
DTEND:20141023T213000Z
X-MICROSOFT-CDO-ALLDAYEVENT:FALSE
SUMMARY:Change Innovators: Leadership for Managers & Supervisors Series
DESCRIPTION:Change Innovators Inc. has designed a series to be integrated into everyday management practices while providing a solid training method and experiential approach to progressive leadership capabilities. During this 7 month course participants get a real opportunity to evaluate\, learn\, practice and evolve in their leadership skills\, while integrating and managing their professional commitments.\n\n \n\nTOPICS COVERED IN 7 HALF-DAY SESSIONS ARE:\n\nWhat Predicts Success\n\nBuilding Self Awareness\n\nStress and Creating Positive Energy\n\nAdapting and Connecting\n\nCoaching as a Leader\n\nTeam Engagement\n\nPersonal Leadership Development Plan\n\n \n\nWHAT PEOPLE HAVE SAID ABOUT THE LEADERSHIP SERIES:\n\n" What is at the heart of this leadership course is people leadership. Some of the most profound gifts of this course are learning how to engage your employees\, how to truly reach someone\, have that difficult conversation\, and develop a results orientated coaching style."\n\n \n\n100% OF ALL PARTICIPANTS POLLED AGREED OR STRONGLY AGREED:\n\n" This course exceeded my expectations significantly."\n\n" The course material challenged my thinking."\n\n" Leadership style has changed in a positive way."\n\n" Will recommend this course to others."\n\n" The one-on-one coaching was very impactful." \n\n \n\nTHE  SCHEDULE \n\nEach half-day session includes all learning materials and textbooks as well as assignments and follow-up communications. We strategically schedule three to four weeks between each session to ensure time for reflection and practice of new skills. Each participant will also receive an Insights Foundational Profile (value $200.00)\, three private coaching sessions (value $ 540.00) and Reflection Journals.\n\n\n\nModule 1 - What Predicts Success - Thurs\, Oct 23\, 2014\n\nModule 2 - Building Self-Awareness - Thurs\, Nov 20\, 2014\n\nModule 3 - Stress & Creating Positive Energy - Thurs\, Dec 11\, 2014\n\nModule 4 - Adapting & Connecting - Thurs\, Jan 15\, 2015\n\nModule 5 - Coaching as a Leader - Thurs\, Feb 5\, 2015\n\nModule 6 - Team Engagement - Thurs\, Feb 26\, 2015\n\nModule 7 - Personal Leadership Development Plan (PLDP) - Thurs\,  March 19\, 2015
X-ALT-DESC;FMTTYPE=text/html:<span style="font-size: 11pt\;"><span style="font-family: arial\,sans-serif\;">Change Innovators Inc. has designed a&nbsp\;series&nbsp\;to be integrated into everyday management practices while providing a solid training method and experiential approach to progressive leadership capabilities. During this 7 month course participants get a real opportunity to evaluate\, learn\, practice and evolve in their leadership skills\, while integrating and managing their professional commitments.</span></span><br />\n&nbsp\;<br />\n<u><span style="font-size: 11pt\;"><span style="font-family: arial\,sans-serif\;">TOPICS COVERED IN 7 HALF-DAY SESSIONS ARE:</span></span></u><br />\n<span style="font-size: 11pt\;"><span style="font-family: arial\,sans-serif\;">What Predicts Success</span></span><br />\n<span style="font-size: 11pt\;"><span style="font-family: arial\,sans-serif\;">Building Self Awareness</span></span><br />\n<span style="font-size: 11pt\;"><span style="font-family: arial\,sans-serif\;">Stress and Creating Positive Energy</span></span><br />\n<span style="font-size: 11pt\;"><span style="font-family: arial\,sans-serif\;">Adapting and Connecting</span></span><br />\n<span style="font-size: 11pt\;"><span style="font-family: arial\,sans-serif\;">Coaching as a Leader</span></span><br />\n<span style="font-size: 11pt\;"><span style="font-family: arial\,sans-serif\;">Team Engagement</span></span><br />\n<span style="font-size: 11pt\;"><span style="font-family: arial\,sans-serif\;">Personal Leadership Development Plan</span></span><br />\n&nbsp\;<br />\n<u><span style="font-size: 11pt\;"><span style="font-family: arial\,sans-serif\;">WHAT PEOPLE HAVE SAID ABOUT THE LEADERSHIP SERIES:</span></span></u><br />\n<span style="font-size: 11pt\;"><span style="font-family: arial\,sans-serif\;">&rdquo\; What is at the heart of this leadership course is people leadership. Some of the most profound gifts&#8232\;of this course are learning how to engage your employees\, how to truly reach someone\, have that difficult conversation\, and develop a results orientated coaching style.&rdquo\;</span></span><br />\n&nbsp\;<br />\n<u><span style="font-size: 11pt\;"><span style="font-family: arial\,sans-serif\;">100% OF ALL PARTICIPANTS POLLED AGREED OR STRONGLY AGREED:</span></span></u><br />\n<span style="font-size: 11pt\;"><span style="font-family: arial\,sans-serif\;">&ldquo\; This course exceeded my expectations significantly.&rdquo\;</span></span><br />\n<span style="font-size: 11pt\;"><span style="font-family: arial\,sans-serif\;">&ldquo\; The course material challenged my thinking.&rdquo\;</span></span><br />\n<span style="font-size: 11pt\;"><span style="font-family: arial\,sans-serif\;">&ldquo\; Leadership style has changed in a positive way.&rdquo\;</span></span><br />\n<span style="font-size: 11pt\;"><span style="font-family: arial\,sans-serif\;">&ldquo\; Will recommend this course to others.&rdquo\;</span></span><br />\n<span style="font-size: 11pt\;"><span style="font-family: arial\,sans-serif\;">&ldquo\; The one-on-one coaching was very impactful.&rdquo\;&nbsp\;</span></span><br />\n&nbsp\;<br />\n<u><span style="font-size: 11pt\;"><span style="font-family: arial\,sans-serif\;">THE &nbsp\;SCHEDULE&nbsp\;</span></span></u><br />\n<span style="font-size: 11pt\;"><span style="font-family: arial\,sans-serif\;">Each half-day session includes all learning materials and textbooks as well as assignments and follow-up communications. We strategically schedule three to four weeks between each session to ensure time for reflection and practice of new skills. Each participant will also receive an Insights Foundational Profile (value $200.00)\, three private coaching sessions (value $ 540.00) and Reflection Journals.</span></span><br />\n<br />\n<span style="font-size: 14px\;"><u>Module 1</u> - What Predicts Success - Thurs\, Oct 23\, 2014<br />\n<u>Module 2</u> - Building Self-Awareness - Thurs\, Nov 20\, 2014<br />\n<u>Module 3</u> - Stress &amp\; Creating Positive Energy - Thurs\, Dec 11\, 2014<br />\n<u>Module 4</u> - Adapting &amp\; Connecting - Thurs\, Jan 15\, 2015<br />\n<u>Module 5</u> - Coaching as a Leader - Thurs\, Feb 5\, 2015<br />\n<u>Module 6</u> - Team Engagement - Thurs\, Feb 26\, 2015<br />\n<u>Module 7</u> - Personal Leadership Development Plan (PLDP) - Thurs\,&nbsp\; March&nbsp\;19\, 2015</span><br />\n&nbsp\;
LOCATION:Victoria Inn 3550 Victoria Ave Brandon\, MB
UID:e.1595.106
SEQUENCE:3
DTSTAMP:20260421T030541Z
URL:https://dev.brandonchamber.ca/events/details/change-innovators-leadership-for-managers-supervisors-series-10-23-2014-106
END:VEVENT

END:VCALENDAR
