BEGIN:VCALENDAR
VERSION:2.0
PRODID:-//ChamberMaster//Event Calendar 2.0//EN
METHOD:PUBLISH
X-PUBLISHED-TTL:P3D
REFRESH-INTERVAL:P3D
CALSCALE:GREGORIAN
BEGIN:VEVENT
DTSTART:20130227T173000Z
DTEND:20130227T190000Z
X-MICROSOFT-CDO-ALLDAYEVENT:FALSE
SUMMARY:Champion of Agriculture Luncheon
DESCRIPTION:Agriculture still the NEXT FRONTIER\n\n \n\nThe forces of "exponentiality" are affecting each of us on a daily basis.  Agriculture is about to be transformed by this mega-trend.  The rise of the Digital Farm  will change how we look at food production and will continue to alter the fabric of agriculture as we know it.  Rob will share some insights as to how technology and agriculture will lead us into a world of abundance in the decades ahead.
X-ALT-DESC;FMTTYPE=text/html:<span style="font-family: arial\;">Agriculture&hellip\;still the NEXT FRONTIER<br />\n&nbsp\;<br />\nThe forces of &ldquo\;exponentiality&rdquo\; are affecting each of us on a daily basis.&nbsp\; Agriculture is about to be transformed by this mega-trend.&nbsp\; The rise of the Digital Farm&trade\; will change how we look at food production and will continue to alter the fabric of agriculture as we know it.&nbsp\; Rob will share some insights as to how technology and agriculture will lead us into a world of abundance in the decades ahead.</span>
LOCATION:Royal Oak Inn & Suites
UID:e.1595.11
SEQUENCE:3
DTSTAMP:20260422T035359Z
URL:https://dev.brandonchamber.ca/events/details/champion-of-agriculture-luncheon-02-27-2013-11
END:VEVENT

END:VCALENDAR
