BEGIN:VCALENDAR
VERSION:2.0
PRODID:-//ChamberMaster//Event Calendar 2.0//EN
METHOD:PUBLISH
X-PUBLISHED-TTL:P3D
REFRESH-INTERVAL:P3D
CALSCALE:GREGORIAN
BEGIN:VEVENT
DTSTART:20140424T163000Z
DTEND:20140424T180000Z
X-MICROSOFT-CDO-ALLDAYEVENT:FALSE
SUMMARY:Chamber Luncheon Series: State of the Province
DESCRIPTION:Join us as we welcome Premiere Selinger to discuss the issues\, accomplishments and future plans of Manitoba at the Chamber's State of the Province Luncheon. Luncheon Sponsor is Westman Communications Group
X-ALT-DESC;FMTTYPE=text/html:Join us as we welcome Premiere Selinger to discuss the issues\, accomplishments and future plans of Manitoba at the Chamber&#39\;s State of the Province Luncheon. Luncheon Sponsor is Westman Communications Group
LOCATION:Keystone Centre - UCT Pavilion
UID:e.1595.79
SEQUENCE:3
DTSTAMP:20260421T082748Z
URL:https://dev.brandonchamber.ca/events/details/chamber-luncheon-series-state-of-the-province-04-24-2014-79
END:VEVENT

END:VCALENDAR
