BEGIN:VCALENDAR
VERSION:2.0
PRODID:-//ChamberMaster//Event Calendar 2.0//EN
METHOD:PUBLISH
X-PUBLISHED-TTL:P3D
REFRESH-INTERVAL:P3D
CALSCALE:GREGORIAN
BEGIN:VEVENT
DTSTART:20140508T163000Z
DTEND:20140508T180000Z
X-MICROSOFT-CDO-ALLDAYEVENT:FALSE
SUMMARY:Chamber Luncheon Series:State of the City
DESCRIPTION:Join us as we welcome Mayor Shari Decter Hirst as she discusses the State of the City. Luncheon Sponsor is Brandon First.
X-ALT-DESC;FMTTYPE=text/html:Join us as we welcome Mayor Shari Decter Hirst as she discusses the State of the City. Luncheon Sponsor is Brandon First.
LOCATION:Victoria Inn - Imperial Ball Room
UID:e.1595.80
SEQUENCE:3
DTSTAMP:20260421T071025Z
URL:https://dev.brandonchamber.ca/events/details/chamber-luncheon-series-state-of-the-city-05-08-2014-80
END:VEVENT

END:VCALENDAR
