BEGIN:VCALENDAR
VERSION:2.0
PRODID:-//ChamberMaster//Event Calendar 2.0//EN
METHOD:PUBLISH
X-PUBLISHED-TTL:P3D
REFRESH-INTERVAL:P3D
CALSCALE:GREGORIAN
BEGIN:VEVENT
DTSTART:20131021T163000Z
DTEND:20131021T180000Z
X-MICROSOFT-CDO-ALLDAYEVENT:FALSE
SUMMARY:Chamber Luncheon Series: Small Business Week 'Kick Off' Luncheon 2013
DESCRIPTION:Join us as we kick off Small Business Week!  Help us celebrate local entrepreneurs and all those whose commitment and hard work contributes to our local community. With special guest speaker - Chuck Davidson - President of the Manitoba Chamber of Commerce.\n\n\n\n\n\nSponsor: Entrepreneurship Manitoba
X-ALT-DESC;FMTTYPE=text/html:Join us as we kick off Small Business Week!&nbsp\; Help us celebrate local entrepreneurs and all those whose commitment and hard work contributes to our local community. With special guest speaker - Chuck Davidson - President of the Manitoba Chamber of Commerce.<br />\n<br />\n<br />\n<strong>Sponsor:&nbsp\;Entrepreneurship Manitoba</strong>
LOCATION:Royal Oak Inn & Suites\, Regency Ballroom
UID:e.1595.28
SEQUENCE:3
DTSTAMP:20260421T165251Z
URL:https://dev.brandonchamber.ca/events/details/chamber-luncheon-series-small-business-week-kick-off-luncheon-2013-10-21-2013-28
END:VEVENT

END:VCALENDAR
