BEGIN:VCALENDAR
VERSION:2.0
PRODID:-//ChamberMaster//Event Calendar 2.0//EN
METHOD:PUBLISH
X-PUBLISHED-TTL:P3D
REFRESH-INTERVAL:P3D
CALSCALE:GREGORIAN
BEGIN:VEVENT
DTSTART:20130919T160000Z
DTEND:20130919T180000Z
X-MICROSOFT-CDO-ALLDAYEVENT:FALSE
SUMMARY:Chamber Luncheon Series: September WestJet Luncheon
DESCRIPTION:PLEASE NOTE TIME CHANGES FOR THIS EVENT\n\n\n\nGuest Speaker Ferio Pugliese - President of WESTJET ENCORE.\n\n\n\nJoin us to hear from him on what WestJet coming to Brandon means for local business.\n\n\n\nThank you to our luncheon sponsor: Sunrise Credit Union
X-ALT-DESC;FMTTYPE=text/html:<span style="font-size: 14px\;"><strong><u><span style="color: rgb(255\, 0\, 0)\;">PLEASE NOTE TIME CHANGES FOR THIS EVENT</span></u></strong></span><br />\n<br />\n<span style="font-family: arial\;">Guest Speaker Ferio Pugliese -&nbsp\;President of WESTJET ENCORE.<br />\n<br />\nJoin us to hear from him on what WestJet coming to Brandon means for local business.</span><br />\n<br />\n<span style="font-family: arial\;">Thank you to our luncheon sponsor: <a href="http://www.sunrisecu.mb.ca"><span style="color: rgb(0\, 0\, 128)\;"><strong><u>Sunrise Credit Union</u></strong></span></a></span><br />\n<br />\n
LOCATION:Victoria Inn\, Grand Salon 3550 Victoria Ave
UID:e.1595.31
SEQUENCE:3
DTSTAMP:20260421T182202Z
URL:https://dev.brandonchamber.ca/events/details/chamber-luncheon-series-september-westjet-luncheon-09-19-2013-31
END:VEVENT

END:VCALENDAR
