BEGIN:VCALENDAR
VERSION:2.0
PRODID:-//ChamberMaster//Event Calendar 2.0//EN
METHOD:PUBLISH
X-PUBLISHED-TTL:P3D
REFRESH-INTERVAL:P3D
CALSCALE:GREGORIAN
BEGIN:VEVENT
DTSTART:20140605T163000Z
DTEND:20140605T180000Z
X-MICROSOFT-CDO-ALLDAYEVENT:FALSE
SUMMARY:Chamber Luncheon Series: President's Luncheon and Change over
DESCRIPTION:Join the Chamber as we thank our out going President\, Craig Senchuk\, for all of his hard work over the 2013/2014 season and welcome in our new President for the 2014/2015 season. Luncheon sponsored by Crocus Credit Union.
X-ALT-DESC;FMTTYPE=text/html:Join the Chamber as we thank our out going President\, Craig Senchuk\, for all of his hard work over the 2013/2014 season and welcome in our new President for the 2014/2015 season. Luncheon sponsored by Crocus Credit Union.
LOCATION:Royal Oak Inn & Suites
UID:e.1595.84
SEQUENCE:3
DTSTAMP:20260421T053846Z
URL:https://dev.brandonchamber.ca/events/details/chamber-luncheon-series-president-s-luncheon-and-change-over-06-05-2014-84
END:VEVENT

END:VCALENDAR
