BEGIN:VCALENDAR
VERSION:2.0
PRODID:-//ChamberMaster//Event Calendar 2.0//EN
METHOD:PUBLISH
X-PUBLISHED-TTL:P3D
REFRESH-INTERVAL:P3D
CALSCALE:GREGORIAN
BEGIN:VEVENT
DTSTART:20131115T173000Z
DTEND:20131115T190000Z
X-MICROSOFT-CDO-ALLDAYEVENT:FALSE
SUMMARY:Chamber Luncheon Series: November - Diane Gray
DESCRIPTION:Come and join us for our November Luncheon with Speaker Diane Gray\, CEO of CentrePort Canada. Sponsored by Assiniboine Community College\n\n\n\nMs. Diane Gray is the founding President and CEO of CentrePort Canada Inc. CentrePort is Canada's first tri-modal inland port and Foreign Trade Zone and encompasses 20\,000 acres in the North West quadrant of Winnipeg\, Manitoba.
X-ALT-DESC;FMTTYPE=text/html:Come and join us for our November Luncheon with Speaker Diane Gray\, CEO of CentrePort Canada. Sponsored by <a href="http://public.assiniboine.net/">Assiniboine Community College</a><br />\n<br />\nMs. Diane Gray is the founding President and CEO of CentrePort Canada Inc. CentrePort is Canada&rsquo\;s first tri-modal inland port and Foreign Trade Zone and encompasses 20\,000 acres in the North West quadrant of Winnipeg\, Manitoba.
LOCATION:Royal Oak Inn & Suites Regency Ballroom
UID:e.1595.57
SEQUENCE:3
DTSTAMP:20260421T154745Z
URL:https://dev.brandonchamber.ca/events/details/chamber-luncheon-series-november-diane-gray-11-15-2013-57
END:VEVENT

END:VCALENDAR
