BEGIN:VCALENDAR
VERSION:2.0
PRODID:-//ChamberMaster//Event Calendar 2.0//EN
METHOD:PUBLISH
X-PUBLISHED-TTL:P3D
REFRESH-INTERVAL:P3D
CALSCALE:GREGORIAN
BEGIN:VEVENT
DTSTART:20140116T173000Z
DTEND:20140116T190000Z
X-MICROSOFT-CDO-ALLDAYEVENT:FALSE
SUMMARY:Chamber Luncheon Series: Martin Neuhofer of Wendell Estate Honey
DESCRIPTION:Join us for our January Luncheon with special guest Martin Neuhofer of Wendell Estate Honey\, sponsored by CORRAL Communications.\n\n\n\nHear from Mr. Neuhofer of Wendell Estate Honey\, on how he transformed his passion for creating the finest honey and turned it into a thriving\, national business\, since his success on Dragon's Den
X-ALT-DESC;FMTTYPE=text/html:Join us for our January Luncheon with special guest Martin Neuhofer of Wendell Estate Honey\, sponsored by CORRAL Communications.<br />\n<br />\nHear from Mr. Neuhofer of <a href="https://secure.wendellestate.ca/">Wendell Estate Honey</a>\, on how he transformed his passion for creating the finest honey and turned it into a thriving\, national business\, since his success on Dragon&#39\;s Den
LOCATION:Royal Oak Inn & Suites Regency Ballroom
UID:e.1595.60
SEQUENCE:3
DTSTAMP:20260421T140353Z
URL:https://dev.brandonchamber.ca/events/details/chamber-luncheon-series-martin-neuhofer-of-wendell-estate-honey-01-16-2014-60
END:VEVENT

END:VCALENDAR
